BEGIN:VCALENDAR
VERSION:2.0
PRODID:-//Georgetown South - ECPv6.15.20//NONSGML v1.0//EN
CALSCALE:GREGORIAN
METHOD:PUBLISH
X-WR-CALNAME:Georgetown South
X-ORIGINAL-URL:https://georgetownsouth.org
X-WR-CALDESC:Events for Georgetown South
REFRESH-INTERVAL;VALUE=DURATION:PT1H
X-Robots-Tag:noindex
X-PUBLISHED-TTL:PT1H
BEGIN:VTIMEZONE
TZID:UTC
BEGIN:STANDARD
TZOFFSETFROM:+0000
TZOFFSETTO:+0000
TZNAME:UTC
DTSTART:20230101T000000
END:STANDARD
END:VTIMEZONE
BEGIN:VEVENT
DTSTART;TZID=UTC:20240207T173000
DTEND;TZID=UTC:20240207T190000
DTSTAMP:20260424T153208
CREATED:20240131T212109Z
LAST-MODIFIED:20240131T212251Z
UID:6561-1707327000-1707332400@georgetownsouth.org
SUMMARY:Domestic Violence Workshop - Taller de Violencia Domestica
DESCRIPTION:
URL:https://georgetownsouth.org/event/domestic-violence-workshop/
END:VEVENT
BEGIN:VEVENT
DTSTART;TZID=UTC:20240208T140000
DTEND;TZID=UTC:20240208T150000
DTSTAMP:20260424T153208
CREATED:20240131T212010Z
LAST-MODIFIED:20240131T212336Z
UID:6559-1707400800-1707404400@georgetownsouth.org
SUMMARY:Mobile Market - Mercado Mobil
DESCRIPTION:
URL:https://georgetownsouth.org/event/mobile-market-12/
END:VEVENT
BEGIN:VEVENT
DTSTART;TZID=UTC:20240213T180000
DTEND;TZID=UTC:20240213T200000
DTSTAMP:20260424T153208
CREATED:20240131T212730Z
LAST-MODIFIED:20240131T212730Z
UID:6565-1707847200-1707854400@georgetownsouth.org
SUMMARY:Diabetes Research  Project Meeting (Future Kings) - Reunión del proyecto de investigación sobre diabetes
DESCRIPTION:
URL:https://georgetownsouth.org/event/diabetes-research-project-meeting-future-kings-reunion-del-proyecto-de-investigacion-sobre-diabetes/
END:VEVENT
BEGIN:VEVENT
DTSTART;TZID=UTC:20240221T120000
DTEND;TZID=UTC:20240221T140000
DTSTAMP:20260424T153208
CREATED:20240131T213808Z
LAST-MODIFIED:20240131T213808Z
UID:6569-1708516800-1708524000@georgetownsouth.org
SUMMARY:Women Empowerment Workshop - Taller de Empoderamiento de la Mujer
DESCRIPTION:
URL:https://georgetownsouth.org/event/women-empowerment-workshop-taller-de-empoderamiento-de-la-mujer/
END:VEVENT
BEGIN:VEVENT
DTSTART;TZID=UTC:20240221T173000
DTEND;TZID=UTC:20240221T190000
DTSTAMP:20260424T153208
CREATED:20240131T213929Z
LAST-MODIFIED:20240131T213929Z
UID:6571-1708536600-1708542000@georgetownsouth.org
SUMMARY:Police Response to Domestic Violence Workshop - Taller sobre respuesta policial a la violencia doméstica
DESCRIPTION:
URL:https://georgetownsouth.org/event/police-response-to-domestic-violence-workshop-taller-sobre-respuesta-policial-a-la-violencia-domestica/
END:VEVENT
BEGIN:VEVENT
DTSTART;TZID=UTC:20240222T140000
DTEND;TZID=UTC:20240222T153000
DTSTAMP:20260424T153208
CREATED:20240131T213305Z
LAST-MODIFIED:20240131T213305Z
UID:6567-1708610400-1708615800@georgetownsouth.org
SUMMARY:Mobil Market - Mercado Mobil
DESCRIPTION:
URL:https://georgetownsouth.org/event/mobil-market-mercado-mobil/
END:VEVENT
BEGIN:VEVENT
DTSTART;TZID=UTC:20240228T173000
DTEND;TZID=UTC:20240228T190000
DTSTAMP:20260424T153208
CREATED:20240131T215555Z
LAST-MODIFIED:20240131T215555Z
UID:6573-1709141400-1709146800@georgetownsouth.org
SUMMARY:Immigration Attorney presents the legal implications of Domestic Violence - Abogada de Inmigración presenta las implicaciones legales de la Violencia Doméstica
DESCRIPTION:
URL:https://georgetownsouth.org/event/immigration-attorney-presents-the-legal-implications-of-domestic-violence-abogada-de-inmigracion-presenta-las-implicaciones-legales-de-la-violencia-domestica/
END:VEVENT
END:VCALENDAR