BEGIN:VCALENDAR
VERSION:2.0
PRODID:-//Georgetown South - ECPv6.15.20//NONSGML v1.0//EN
CALSCALE:GREGORIAN
METHOD:PUBLISH
X-WR-CALNAME:Georgetown South
X-ORIGINAL-URL:https://georgetownsouth.org
X-WR-CALDESC:Events for Georgetown South
REFRESH-INTERVAL;VALUE=DURATION:PT1H
X-Robots-Tag:noindex
X-PUBLISHED-TTL:PT1H
BEGIN:VTIMEZONE
TZID:UTC
BEGIN:STANDARD
TZOFFSETFROM:+0000
TZOFFSETTO:+0000
TZNAME:UTC
DTSTART:20210101T000000
END:STANDARD
END:VTIMEZONE
BEGIN:VEVENT
DTSTART;TZID=UTC:20221011T180000
DTEND;TZID=UTC:20221011T200000
DTSTAMP:20260422T105552
CREATED:20220311T190432Z
LAST-MODIFIED:20220311T190432Z
UID:5599-1665511200-1665518400@georgetownsouth.org
SUMMARY:Board Meeting
DESCRIPTION:
URL:https://georgetownsouth.org/event/board-meeting-15/
END:VEVENT
END:VCALENDAR