BEGIN:VCALENDAR
VERSION:2.0
PRODID:-//Georgetown South - ECPv6.15.20//NONSGML v1.0//EN
CALSCALE:GREGORIAN
METHOD:PUBLISH
X-ORIGINAL-URL:https://georgetownsouth.org
X-WR-CALDESC:Events for Georgetown South
REFRESH-INTERVAL;VALUE=DURATION:PT1H
X-Robots-Tag:noindex
X-PUBLISHED-TTL:PT1H
BEGIN:VTIMEZONE
TZID:UTC
BEGIN:STANDARD
TZOFFSETFROM:+0000
TZOFFSETTO:+0000
TZNAME:UTC
DTSTART:20210101T000000
END:STANDARD
END:VTIMEZONE
BEGIN:VEVENT
DTSTART;TZID=UTC:20220412T180000
DTEND;TZID=UTC:20220412T200000
DTSTAMP:20260424T105204
CREATED:20220311T190059Z
LAST-MODIFIED:20220311T190059Z
UID:5587-1649786400-1649793600@georgetownsouth.org
SUMMARY:Board Meeting
DESCRIPTION:
URL:https://georgetownsouth.org/event/board-meeting-9/
END:VEVENT
BEGIN:VEVENT
DTSTART;TZID=UTC:20220414T130000
DTEND;TZID=UTC:20220414T160000
DTSTAMP:20260424T105204
CREATED:20220207T161935Z
LAST-MODIFIED:20220207T161935Z
UID:5443-1649941200-1649952000@georgetownsouth.org
SUMMARY:Mobile Market - Mercado Movil
DESCRIPTION:Fresh vegetables will be given at 1:00pm\, vegetales frescos serán distribuidos a la 1:00 pm.
URL:https://georgetownsouth.org/event/mobile-market-mercado-movil-4/
END:VEVENT
BEGIN:VEVENT
DTSTART;TZID=UTC:20220416T100000
DTEND;TZID=UTC:20220416T140000
DTSTAMP:20260424T105204
CREATED:20220207T163108Z
LAST-MODIFIED:20220207T163108Z
UID:5460-1650103200-1650117600@georgetownsouth.org
SUMMARY:Easter Egg Hunt - Búsqueda de huevos de Pascua
DESCRIPTION:
URL:https://georgetownsouth.org/event/easter-egg-hunt-busqueda-de-huevos-de-pascua/
END:VEVENT
BEGIN:VEVENT
DTSTART;TZID=UTC:20220419T163000
DTEND;TZID=UTC:20220419T183000
DTSTAMP:20260424T105204
CREATED:20220207T163650Z
LAST-MODIFIED:20220207T163816Z
UID:5466-1650385800-1650393000@georgetownsouth.org
SUMMARY:Badges for Baseball season starts
DESCRIPTION:
URL:https://georgetownsouth.org/event/badges-for-baseball-season-starts/
END:VEVENT
BEGIN:VEVENT
DTSTART;TZID=UTC:20220428T130000
DTEND;TZID=UTC:20220428T160000
DTSTAMP:20260424T105204
CREATED:20220207T162016Z
LAST-MODIFIED:20220207T162016Z
UID:5445-1651150800-1651161600@georgetownsouth.org
SUMMARY:Mobile Market - Mercado Movil
DESCRIPTION:Fresh vegetables will be given at 1:00pm\, vegetales frescos serán distribuidos a la 1:00 pm.
URL:https://georgetownsouth.org/event/mobile-market-mercado-movil-5/
END:VEVENT
BEGIN:VEVENT
DTSTART;TZID=UTC:20220430T080000
DTEND;TZID=UTC:20220430T170000
DTSTAMP:20260424T105204
CREATED:20220207T163322Z
LAST-MODIFIED:20220207T163322Z
UID:5462-1651305600-1651338000@georgetownsouth.org
SUMMARY:YPO - Tu Orgullo Afuera
DESCRIPTION:
URL:https://georgetownsouth.org/event/ypo-tu-orgullo-afuera/
END:VEVENT
END:VCALENDAR