BEGIN:VCALENDAR
VERSION:2.0
PRODID:-//Georgetown South - ECPv6.15.20//NONSGML v1.0//EN
CALSCALE:GREGORIAN
METHOD:PUBLISH
X-WR-CALNAME:Georgetown South
X-ORIGINAL-URL:https://georgetownsouth.org
X-WR-CALDESC:Events for Georgetown South
REFRESH-INTERVAL;VALUE=DURATION:PT1H
X-Robots-Tag:noindex
X-PUBLISHED-TTL:PT1H
BEGIN:VTIMEZONE
TZID:UTC
BEGIN:STANDARD
TZOFFSETFROM:+0000
TZOFFSETTO:+0000
TZNAME:UTC
DTSTART:20200101T000000
END:STANDARD
END:VTIMEZONE
BEGIN:VEVENT
DTSTART;TZID=UTC:20211008T140000
DTEND;TZID=UTC:20211008T160000
DTSTAMP:20260424T210937
CREATED:20210901T174829Z
LAST-MODIFIED:20210901T174829Z
UID:5224-1633701600-1633708800@georgetownsouth.org
SUMMARY:Mobile Market
DESCRIPTION:
URL:https://georgetownsouth.org/event/mobile-market-10/
END:VEVENT
BEGIN:VEVENT
DTSTART;TZID=UTC:20211008T173000
DTEND;TZID=UTC:20211008T190000
DTSTAMP:20260424T210937
CREATED:20211005T183451Z
LAST-MODIFIED:20211005T183451Z
UID:5304-1633714200-1633719600@georgetownsouth.org
SUMMARY:Code of Conduct meeting/Reunion de Código de conducta
DESCRIPTION:
URL:https://georgetownsouth.org/event/code-of-conduct-meeting-reunion-de-codigo-de-conducta/
END:VEVENT
BEGIN:VEVENT
DTSTART;TZID=UTC:20211012T180000
DTEND;TZID=UTC:20211012T200000
DTSTAMP:20260424T210937
CREATED:20211005T183604Z
LAST-MODIFIED:20211005T183604Z
UID:5306-1634061600-1634068800@georgetownsouth.org
SUMMARY:Board Meeting
DESCRIPTION:
URL:https://georgetownsouth.org/event/board-meeting-8/
END:VEVENT
BEGIN:VEVENT
DTSTART;TZID=UTC:20211022T130000
DTEND;TZID=UTC:20211022T150000
DTSTAMP:20260424T210937
CREATED:20211005T183254Z
LAST-MODIFIED:20211005T183254Z
UID:5302-1634907600-1634914800@georgetownsouth.org
SUMMARY:Mobile Market
DESCRIPTION:
URL:https://georgetownsouth.org/event/mobile-market-11/
END:VEVENT
END:VCALENDAR