BEGIN:VCALENDAR
VERSION:2.0
PRODID:-//Georgetown South - ECPv6.15.20//NONSGML v1.0//EN
CALSCALE:GREGORIAN
METHOD:PUBLISH
X-WR-CALNAME:Georgetown South
X-ORIGINAL-URL:https://georgetownsouth.org
X-WR-CALDESC:Events for Georgetown South
REFRESH-INTERVAL;VALUE=DURATION:PT1H
X-Robots-Tag:noindex
X-PUBLISHED-TTL:PT1H
BEGIN:VTIMEZONE
TZID:UTC
BEGIN:STANDARD
TZOFFSETFROM:+0000
TZOFFSETTO:+0000
TZNAME:UTC
DTSTART:20200101T000000
END:STANDARD
END:VTIMEZONE
BEGIN:VEVENT
DTSTART;TZID=UTC:20210902T170000
DTEND;TZID=UTC:20210902T190000
DTSTAMP:20260424T234907
CREATED:20210830T135231Z
LAST-MODIFIED:20210830T135231Z
UID:5211-1630602000-1630609200@georgetownsouth.org
SUMMARY:COVID-19 Vaccine Event
DESCRIPTION:
URL:https://georgetownsouth.org/event/covid-19-vaccine-event/
END:VEVENT
BEGIN:VEVENT
DTSTART;VALUE=DATE:20210906
DTEND;VALUE=DATE:20210907
DTSTAMP:20260424T234907
CREATED:20210830T134936Z
LAST-MODIFIED:20210830T135458Z
UID:5207-1630886400-1630972799@georgetownsouth.org
SUMMARY:Labor Day (Office Closed)
DESCRIPTION:
URL:https://georgetownsouth.org/event/labor-day-office-closed-2/
END:VEVENT
BEGIN:VEVENT
DTSTART;TZID=UTC:20210909T190000
DTEND;TZID=UTC:20210909T210000
DTSTAMP:20260424T234907
CREATED:20210901T175306Z
LAST-MODIFIED:20210902T210016Z
UID:5231-1631214000-1631221200@georgetownsouth.org
SUMMARY:ELL Night Class starts/ Inicio de las clases de Ingles
DESCRIPTION:
URL:https://georgetownsouth.org/event/ell-night-class-starts-inicio-de-las-clases-de-ingles/
END:VEVENT
BEGIN:VEVENT
DTSTART;TZID=UTC:20210910T140000
DTEND;TZID=UTC:20210910T160000
DTSTAMP:20260424T234907
CREATED:20210901T174710Z
LAST-MODIFIED:20210901T174710Z
UID:5220-1631282400-1631289600@georgetownsouth.org
SUMMARY:Mobile Market
DESCRIPTION:
URL:https://georgetownsouth.org/event/mobile-market-8/
END:VEVENT
BEGIN:VEVENT
DTSTART;TZID=UTC:20210913T170000
DTEND;TZID=UTC:20210913T180000
DTSTAMP:20260424T234907
CREATED:20210901T175000Z
LAST-MODIFIED:20210901T175000Z
UID:5227-1631552400-1631556000@georgetownsouth.org
SUMMARY:Girls on the Run season starts/Comienza la temporada de Girls on the Run
DESCRIPTION:
URL:https://georgetownsouth.org/event/girls-on-the-run-season-starts-comienza-la-temporada-de-girls-on-the-run/
END:VEVENT
BEGIN:VEVENT
DTSTART;TZID=UTC:20210914T180000
DTEND;TZID=UTC:20210914T210000
DTSTAMP:20260424T234907
CREATED:20210830T135051Z
LAST-MODIFIED:20210830T135051Z
UID:5209-1631642400-1631653200@georgetownsouth.org
SUMMARY:Board Meeting
DESCRIPTION:
URL:https://georgetownsouth.org/event/board-meeting-7/
END:VEVENT
BEGIN:VEVENT
DTSTART;TZID=UTC:20210917T180000
DTEND;TZID=UTC:20210917T200000
DTSTAMP:20260424T234907
CREATED:20210901T175429Z
LAST-MODIFIED:20210901T175429Z
UID:5233-1631901600-1631908800@georgetownsouth.org
SUMMARY:Bingo Night/ Loteria
DESCRIPTION:
URL:https://georgetownsouth.org/event/bingo-night-loteria/
END:VEVENT
BEGIN:VEVENT
DTSTART;TZID=UTC:20210921T160000
DTEND;TZID=UTC:20210921T173000
DTSTAMP:20260424T234907
CREATED:20210901T175149Z
LAST-MODIFIED:20210901T175149Z
UID:5229-1632240000-1632245400@georgetownsouth.org
SUMMARY:Badges for Baseball season starts/ Inicio de temporada para Badges for Baseball
DESCRIPTION:
URL:https://georgetownsouth.org/event/badges-for-baseball-season-starts-inicio-de-temporada-para-badges-for-baseball/
END:VEVENT
BEGIN:VEVENT
DTSTART;TZID=UTC:20210924T140000
DTEND;TZID=UTC:20210924T160000
DTSTAMP:20260424T234907
CREATED:20210901T174751Z
LAST-MODIFIED:20210901T174751Z
UID:5222-1632492000-1632499200@georgetownsouth.org
SUMMARY:Mobile Market
DESCRIPTION:
URL:https://georgetownsouth.org/event/mobile-market-9/
END:VEVENT
END:VCALENDAR