BEGIN:VCALENDAR
VERSION:2.0
PRODID:-//Georgetown South - ECPv6.15.20//NONSGML v1.0//EN
CALSCALE:GREGORIAN
METHOD:PUBLISH
X-WR-CALNAME:Georgetown South
X-ORIGINAL-URL:https://georgetownsouth.org
X-WR-CALDESC:Events for Georgetown South
REFRESH-INTERVAL;VALUE=DURATION:PT1H
X-Robots-Tag:noindex
X-PUBLISHED-TTL:PT1H
BEGIN:VTIMEZONE
TZID:UTC
BEGIN:STANDARD
TZOFFSETFROM:+0000
TZOFFSETTO:+0000
TZNAME:UTC
DTSTART:20200101T000000
END:STANDARD
END:VTIMEZONE
BEGIN:VEVENT
DTSTART;TZID=UTC:20210805T180000
DTEND;TZID=UTC:20210805T210000
DTSTAMP:20260421T194849
CREATED:20210622T200845Z
LAST-MODIFIED:20210622T200845Z
UID:5113-1628186400-1628197200@georgetownsouth.org
SUMMARY:Bingo for Adults
DESCRIPTION:
URL:https://georgetownsouth.org/event/bingo-for-adults/
LOCATION:GTS Community Center
END:VEVENT
BEGIN:VEVENT
DTSTART;TZID=UTC:20210806T140000
DTEND;TZID=UTC:20210806T160000
DTSTAMP:20260421T194849
CREATED:20210623T143510Z
LAST-MODIFIED:20210623T143510Z
UID:5135-1628258400-1628265600@georgetownsouth.org
SUMMARY:Food Distribution
DESCRIPTION:
URL:https://georgetownsouth.org/event/food-distribution-3/
END:VEVENT
BEGIN:VEVENT
DTSTART;TZID=UTC:20210813T140000
DTEND;TZID=UTC:20210813T160000
DTSTAMP:20260421T194849
CREATED:20210623T143550Z
LAST-MODIFIED:20210623T143550Z
UID:5137-1628863200-1628870400@georgetownsouth.org
SUMMARY:Mobile Market
DESCRIPTION:
URL:https://georgetownsouth.org/event/mobile-market-6/
END:VEVENT
BEGIN:VEVENT
DTSTART;TZID=UTC:20210820T140000
DTEND;TZID=UTC:20210820T160000
DTSTAMP:20260421T194849
CREATED:20210623T143709Z
LAST-MODIFIED:20210623T143709Z
UID:5141-1629468000-1629475200@georgetownsouth.org
SUMMARY:Food Distribution
DESCRIPTION:
URL:https://georgetownsouth.org/event/food-distribution-5/
END:VEVENT
BEGIN:VEVENT
DTSTART;TZID=UTC:20210827T140000
DTEND;TZID=UTC:20210827T160000
DTSTAMP:20260421T194849
CREATED:20210623T143753Z
LAST-MODIFIED:20210623T143753Z
UID:5143-1630072800-1630080000@georgetownsouth.org
SUMMARY:Mobile Market
DESCRIPTION:
URL:https://georgetownsouth.org/event/mobile-market-7/
END:VEVENT
END:VCALENDAR