BEGIN:VCALENDAR
VERSION:2.0
PRODID:-//Georgetown South - ECPv6.15.20//NONSGML v1.0//EN
CALSCALE:GREGORIAN
METHOD:PUBLISH
X-WR-CALNAME:Georgetown South
X-ORIGINAL-URL:https://georgetownsouth.org
X-WR-CALDESC:Events for Georgetown South
REFRESH-INTERVAL;VALUE=DURATION:PT1H
X-Robots-Tag:noindex
X-PUBLISHED-TTL:PT1H
BEGIN:VTIMEZONE
TZID:UTC
BEGIN:STANDARD
TZOFFSETFROM:+0000
TZOFFSETTO:+0000
TZNAME:UTC
DTSTART:20160101T000000
END:STANDARD
END:VTIMEZONE
BEGIN:VEVENT
DTSTART;TZID=UTC:20201013T180000
DTEND;TZID=UTC:20201013T200000
DTSTAMP:20260425T155546
CREATED:20200929T152510Z
LAST-MODIFIED:20200929T154230Z
UID:4492-1602612000-1602619200@georgetownsouth.org
SUMMARY:Monthly Board Meeting
DESCRIPTION:Meg Carroll is inviting you to a scheduled Zoom meeting. \n  \nTopic: Monthly Board Meeting of the Georgetown South Community Council Board of Trustees \nTime: Oct 13\, 2020 06:00 PM Eastern Time (US and Canada) \nEvery month on the Second Tue\, until Feb 9\, 2021\, 5 occurrence(s) \nOct 13\, 2020 06:00 PM \nNov 10\, 2020 06:00 PM \nDec 8\, 2020 06:00 PM \nJan 12\, 2021 06:00 PM \nFeb 9\, 2021 06:00 PM \nPlease download and import the following iCalendar (.ics) files to your calendar system. \nMonthly: https://us02web.zoom.us/meeting/tZYpd-ipqzwjG9Z5jskts3Og9Njg1acCT1FP/ics?icsToken=98tyKuGqqjsrG9GSuRiFRpwQBoigd-vwmGZEjfpnyRX2CDRAMSzxb8xINeN-E_vk \n  \nJoin Zoom Meeting \nhttps://us02web.zoom.us/j/82401157912?pwd=MTRWNmVwNWwza2txTWg3MzJCUTY5dz09 \n  \nMeeting ID: 824 0115 7912 \nPasscode: 694405 \nOne tap mobile \n+19292056099\,\,82401157912#\,\,\,\,\,\,0#\,\,694405# US (New York) \n+13017158592\,\,82401157912#\,\,\,\,\,\,0#\,\,694405# US (Germantown) \n  \nDial by your location \n+1 929 205 6099 US (New York) \n+1 301 715 8592 US (Germantown) \n+1 312 626 6799 US (Chicago) \n+1 669 900 6833 US (San Jose) \n+1 253 215 8782 US (Tacoma) \n+1 346 248 7799 US (Houston) \nMeeting ID: 824 0115 7912 \nPasscode: 694405 \nFind your local number: https://us02web.zoom.us/u/kzOZo1t8H \n 
URL:https://georgetownsouth.org/event/monthly-board-meeting/
END:VEVENT
BEGIN:VEVENT
DTSTART;TZID=UTC:20200310T190000
DTEND;TZID=UTC:20200310T210000
DTSTAMP:20260425T155546
CREATED:20200130T194847Z
LAST-MODIFIED:20200130T194847Z
UID:4049-1583866800-1583874000@georgetownsouth.org
SUMMARY:Annual Meeting
DESCRIPTION:
URL:https://georgetownsouth.org/event/annual-meeting-3/
END:VEVENT
BEGIN:VEVENT
DTSTART;TZID=UTC:20200306T180000
DTEND;TZID=UTC:20200306T200000
DTSTAMP:20260425T155546
CREATED:20200130T191628Z
LAST-MODIFIED:20200130T194504Z
UID:4033-1583517600-1583524800@georgetownsouth.org
SUMMARY:Friday Fun Night
DESCRIPTION:
URL:https://georgetownsouth.org/event/friday-fun-night/
END:VEVENT
BEGIN:VEVENT
DTSTART;TZID=UTC:20200226T180000
DTEND;TZID=UTC:20200226T190000
DTSTAMP:20260425T155546
CREATED:20200130T200911Z
LAST-MODIFIED:20200131T180353Z
UID:4051-1582740000-1582743600@georgetownsouth.org
SUMMARY:Pre-k Information Night
DESCRIPTION:
URL:https://georgetownsouth.org/event/pre-k-workshop/
END:VEVENT
BEGIN:VEVENT
DTSTART;TZID=UTC:20200214T170000
DTEND;TZID=UTC:20200214T190000
DTSTAMP:20260425T155546
CREATED:20200205T192733Z
LAST-MODIFIED:20200205T192733Z
UID:4070-1581699600-1581706800@georgetownsouth.org
SUMMARY:Art Contest
DESCRIPTION:
URL:https://georgetownsouth.org/event/art-contest/
END:VEVENT
BEGIN:VEVENT
DTSTART;TZID=UTC:20200207T180000
DTEND;TZID=UTC:20200207T200000
DTSTAMP:20260425T155546
CREATED:20200130T194639Z
LAST-MODIFIED:20200130T194639Z
UID:4045-1581098400-1581105600@georgetownsouth.org
SUMMARY:Friday Fun Night
DESCRIPTION:
URL:https://georgetownsouth.org/event/friday-fun-night-2/
END:VEVENT
BEGIN:VEVENT
DTSTART;TZID=UTC:20200130T083000
DTEND;TZID=UTC:20200225T170000
DTSTAMP:20260425T155546
CREATED:20200130T194815Z
LAST-MODIFIED:20200206T162541Z
UID:4047-1580373000-1582650000@georgetownsouth.org
SUMMARY:Girls on The Run Registrations
DESCRIPTION:This program is for girls in 3rd grade to 8th grade!\nis not just about running!! \nEste programa es para niñas de 3 ° a 8 ° grado!\nno se trata solo de correr !!
URL:https://georgetownsouth.org/event/girls-on-the-run-registrations/
END:VEVENT
BEGIN:VEVENT
DTSTART;TZID=UTC:20190725T160000
DTEND;TZID=UTC:20190725T180000
DTSTAMP:20260425T155546
CREATED:20190716T205740Z
LAST-MODIFIED:20190716T205740Z
UID:3847-1564070400-1564077600@georgetownsouth.org
SUMMARY:Math Camp
DESCRIPTION:
URL:https://georgetownsouth.org/event/math-camp/
LOCATION:GTS Community Center
END:VEVENT
BEGIN:VEVENT
DTSTART;TZID=UTC:20190723T110000
DTEND;TZID=UTC:20190723T130000
DTSTAMP:20260425T155546
CREATED:20190716T205610Z
LAST-MODIFIED:20190716T205610Z
UID:3843-1563879600-1563886800@georgetownsouth.org
SUMMARY:Mobile Market
DESCRIPTION:
URL:https://georgetownsouth.org/event/mobile-market-2/
LOCATION:GTS Community Center
END:VEVENT
BEGIN:VEVENT
DTSTART;TZID=UTC:20190722T123000
DTEND;TZID=UTC:20190722T150000
DTSTAMP:20260425T155546
CREATED:20190716T204713Z
LAST-MODIFIED:20190716T205521Z
UID:3835-1563798600-1563807600@georgetownsouth.org
SUMMARY:Book Club
DESCRIPTION:
URL:https://georgetownsouth.org/event/steam-club-girl-scouts/
LOCATION:GTS Community Center
END:VEVENT
BEGIN:VEVENT
DTSTART;TZID=UTC:20190718T100000
DTEND;TZID=UTC:20190718T140000
DTSTAMP:20260425T155546
CREATED:20190716T204618Z
LAST-MODIFIED:20190716T204618Z
UID:3833-1563444000-1563458400@georgetownsouth.org
SUMMARY:Trash to Treasure Camp
DESCRIPTION:
URL:https://georgetownsouth.org/event/trash-to-treasure-camp/
LOCATION:GTS Community Center
END:VEVENT
BEGIN:VEVENT
DTSTART;TZID=UTC:20190717T170000
DTEND;TZID=UTC:20190717T190000
DTSTAMP:20260425T155546
CREATED:20190716T203932Z
LAST-MODIFIED:20190716T204025Z
UID:3825-1563382800-1563390000@georgetownsouth.org
SUMMARY:Snow Cones with the Manassas City Police Department
DESCRIPTION:Snow Cones with the Manassas City Police Department \n 
URL:https://georgetownsouth.org/event/3825/
LOCATION:GTS Community Center
END:VEVENT
BEGIN:VEVENT
DTSTART;TZID=UTC:20190716T153000
DTEND;TZID=UTC:20190716T163000
DTSTAMP:20260425T155546
CREATED:20190716T205703Z
LAST-MODIFIED:20190716T205703Z
UID:3845-1563291000-1563294600@georgetownsouth.org
SUMMARY:Be Amazing Club (Girl Scouts)
DESCRIPTION:
URL:https://georgetownsouth.org/event/be-amazing-club-girl-scouts/
LOCATION:GTS Community Center
END:VEVENT
BEGIN:VEVENT
DTSTART;TZID=UTC:20180903T080000
DTEND;TZID=UTC:20180903T170000
DTSTAMP:20260425T155546
CREATED:20180518T143813Z
LAST-MODIFIED:20180518T143813Z
UID:3233-1535961600-1535994000@georgetownsouth.org
SUMMARY:Labor Day - Office closed
DESCRIPTION:
URL:https://georgetownsouth.org/event/labor-day-office-closed/
END:VEVENT
BEGIN:VEVENT
DTSTART;TZID=UTC:20180813T080000
DTEND;TZID=UTC:20180817T170000
DTSTAMP:20260425T155546
CREATED:20180518T143717Z
LAST-MODIFIED:20180518T143717Z
UID:3231-1534147200-1534525200@georgetownsouth.org
SUMMARY:Kidergy Camp
DESCRIPTION:
URL:https://georgetownsouth.org/event/kidergy-camp/
END:VEVENT
BEGIN:VEVENT
DTSTART;TZID=UTC:20180806T080000
DTEND;TZID=UTC:20180810T170000
DTSTAMP:20260425T155546
CREATED:20180518T143640Z
LAST-MODIFIED:20180518T143640Z
UID:3229-1533542400-1533920400@georgetownsouth.org
SUMMARY:Lego Camp
DESCRIPTION:
URL:https://georgetownsouth.org/event/lego-camp/
END:VEVENT
BEGIN:VEVENT
DTSTART;TZID=UTC:20180704T080000
DTEND;TZID=UTC:20180704T170000
DTSTAMP:20260425T155546
CREATED:20180518T143403Z
LAST-MODIFIED:20180518T143403Z
UID:3227-1530691200-1530723600@georgetownsouth.org
SUMMARY:July 4th - Office closed
DESCRIPTION:
URL:https://georgetownsouth.org/event/july-4th-office-closed/
END:VEVENT
BEGIN:VEVENT
DTSTART;TZID=UTC:20180618T060000
DTEND;TZID=UTC:20180622T193000
DTSTAMP:20260425T155546
CREATED:20180518T141625Z
LAST-MODIFIED:20180518T143107Z
UID:3220-1529301600-1529695800@georgetownsouth.org
SUMMARY:Soccer Camp
DESCRIPTION:
URL:https://georgetownsouth.org/event/run-of-faith/
END:VEVENT
BEGIN:VEVENT
DTSTART;TZID=UTC:20180616T090000
DTEND;TZID=UTC:20180616T130000
DTSTAMP:20260425T155546
CREATED:20180518T143308Z
LAST-MODIFIED:20180518T143308Z
UID:3225-1529139600-1529154000@georgetownsouth.org
SUMMARY:Run of Faith
DESCRIPTION:
URL:https://georgetownsouth.org/event/run-of-faith-2/
END:VEVENT
BEGIN:VEVENT
DTSTART;TZID=UTC:20180421T073000
DTEND;TZID=UTC:20180421T130000
DTSTAMP:20260425T155546
CREATED:20180320T151202Z
LAST-MODIFIED:20180320T160921Z
UID:3164-1524295800-1524315600@georgetownsouth.org
SUMMARY:Comcast Cares Day
DESCRIPTION:Comcast Cares Day at Georgetown South\nApril 21 @ 7:30 am – 1:00 pm\nBring yourself\, a friend\, your family\, a team from work\, a group from church\, your book club\, the people from Rotary\, Kiwanis\, Lions\, bring groups from middle school\, high school and college. Simply put\, bring anyone with a mind and a heart for service to make a difference for an entire community. \nGeorgetown South is a community of 860 houses\, 4\,000+ residents with at least half under the age of 18. Most of Georgetown South has come here from a country in Central or South America or Mexico. They came for a better life and now they work round the clock to have that better vida. Many of the residents will be working alongside volunteers from COMCAST CARES engaging in a number of activities to make the community more beautiful\, and most importantly\, safer. \nActivities for the day include: mulching 45 playground areas\, planting the 2018 Community Garden\, planting window boxes at the entrances and at the Georgetown South Community Center\, painting and personalizing 30 picnic tables for use throughout the  green space\, and putting house numbers to the rear of the residences. While most of the activities are about beautification\, two stand out for making Georgetown South a safer place. 1)\, the mulching of the playgrounds and 2) the task of making house number plaques to be attached to the rear fences of over 840 houses. This will be a huge help to public safety professionals trying to identify locations where assistance is needed. We need volunteers to help with this event. Many are coming from outside of Manassas to help us\, let us show how WE help ourselves. To register\, go to https://leadershipprincewilliam.org/event/comcast-cares-day/ or call the Georgetown South Community Center office at 703-361-4500 and we will register for you. \nComcast Cares Day en Georgetown South\n21 de abril @ 7:30 am – 1:00 pm\nTraiga\, un amigo\, su familia\, un equipo del trabajo\, un grupo de la iglesia\, su club de lectura\, personas de Rotary\, grupos de la escuela elemental\, secundaria y universitaria. \nEn pocas palabras\, traiga a cualquiera con una mente y un corazón para el servicio que marque la diferencia para toda una comunidad. Georgetown South es una comunidad que cuenta con 860 casas\, más de 4000 residentes de los cuales más de la mitad son menores de 18 años. La mayoría de los residentes de Georgetown South son inmigrantes de América central\, América del sur o Mexico. Ellos vinieron buscando un mejor bienestar y trabajan todo el día para tener una vida mejor. Muchos de los residentes trabajarán junto a los voluntarios de COMCAST CARES participando en una serie de actividades para hacer que esta comunidad sea más bella\, y lo más importante\, más segura. Estas actividades incluyen echar mulch en 15 parques de recreación\, siembra en el jardín comunitario 2018\, plantando los maseteros de las entradas a Georgetown South\, pintar y personalizar 30 mesas para que sean ubicados para su uso en las áreas verdes y poner los números de las casas en la parte posterior de la propiedad. Si bien la mayoría de las actividades embellecen nuestro espacio\, dos se destacan por hacer de Georgetown South un lugar más seguro. 1) Echar mulch a los parques y 2) la tarea de hacer unas placas con los números de las propiedades para que sean colocados en la parte posterior a más de 800 propiedades. Esto será de gran ayuda para profesionales de la seguridad pública tratando de identificar una unidad donde necesite asistencia. Necesitamos voluntarios para ayudar con este evento. Muchos voluntarios de otros lugares están viniendo para ayudarnos\, demostremos cómo podemos ayudarnos nosotros mismos. Para registrarse\, vaya a https://leadershipprincewilliam.org/event/comcast-cares-day/o llame a la oficina de Georgetown South Community Center al 703-361-4500 y nosotros los registraremos.
URL:https://georgetownsouth.org/event/3164/
LOCATION:GTS Community Center
ATTACH;FMTTYPE=image/jpeg:https://georgetownsouth.org/wp-content/uploads/2018/03/Comcast-Cares-Day-banner.jpg
END:VEVENT
BEGIN:VEVENT
DTSTART;TZID=UTC:20180313T190000
DTEND;TZID=UTC:20180313T210000
DTSTAMP:20260425T155546
CREATED:20180227T203146Z
LAST-MODIFIED:20180227T203146Z
UID:3039-1520967600-1520974800@georgetownsouth.org
SUMMARY:Georgetown South Community Council Annual Meeting
DESCRIPTION:
URL:https://georgetownsouth.org/event/georgetown-south-community-council-annual-meeting/
END:VEVENT
BEGIN:VEVENT
DTSTART;TZID=UTC:20180123T100000
DTEND;TZID=UTC:20180123T110000
DTSTAMP:20260425T155546
CREATED:20180122T220202Z
LAST-MODIFIED:20180122T220202Z
UID:3031-1516701600-1516705200@georgetownsouth.org
SUMMARY:Mobile Market
DESCRIPTION:Place: GTS Community Council \nTime: 10 AM
URL:https://georgetownsouth.org/event/mobile-market/
END:VEVENT
BEGIN:VEVENT
DTSTART;TZID=UTC:20171231T103000
DTEND;TZID=UTC:20171231T103000
DTSTAMP:20260425T155546
CREATED:20170906T173140Z
LAST-MODIFIED:20170906T173140Z
UID:3015-1514716200-1514716200@georgetownsouth.org
SUMMARY:Vida Nueva
DESCRIPTION:
URL:https://georgetownsouth.org/event/vida-nueva-173/
END:VEVENT
BEGIN:VEVENT
DTSTART;TZID=UTC:20171231T080000
DTEND;TZID=UTC:20171231T170000
DTSTAMP:20260425T155546
CREATED:20170906T173103Z
LAST-MODIFIED:20170906T173103Z
UID:3013-1514707200-1514739600@georgetownsouth.org
SUMMARY:New Beginnings
DESCRIPTION:
URL:https://georgetownsouth.org/event/new-beginnings-21/
END:VEVENT
BEGIN:VEVENT
DTSTART;TZID=UTC:20171229T200000
DTEND;TZID=UTC:20171229T200000
DTSTAMP:20260425T155546
CREATED:20170906T161418Z
LAST-MODIFIED:20170906T161444Z
UID:3010-1514577600-1514577600@georgetownsouth.org
SUMMARY:Vida Nueva
DESCRIPTION:
URL:https://georgetownsouth.org/event/shadai-dc-35/
END:VEVENT
BEGIN:VEVENT
DTSTART;TZID=UTC:20171228T173000
DTEND;TZID=UTC:20171228T173000
DTSTAMP:20260425T155546
CREATED:20170906T161340Z
LAST-MODIFIED:20170906T161340Z
UID:3008-1514482200-1514482200@georgetownsouth.org
SUMMARY:Tutoring
DESCRIPTION:
URL:https://georgetownsouth.org/event/tutoring-28/
END:VEVENT
BEGIN:VEVENT
DTSTART;TZID=UTC:20171227T193000
DTEND;TZID=UTC:20171227T193000
DTSTAMP:20260425T155546
CREATED:20170906T161013Z
LAST-MODIFIED:20170906T161013Z
UID:3006-1514403000-1514403000@georgetownsouth.org
SUMMARY:Chapel Springs ESOL
DESCRIPTION:
URL:https://georgetownsouth.org/event/chapel-springs-esol-70/
END:VEVENT
BEGIN:VEVENT
DTSTART;TZID=UTC:20171226T190000
DTEND;TZID=UTC:20171226T190000
DTSTAMP:20260425T155546
CREATED:20170906T155635Z
LAST-MODIFIED:20170906T155635Z
UID:3004-1514314800-1514314800@georgetownsouth.org
SUMMARY:Girls Group
DESCRIPTION:
URL:https://georgetownsouth.org/event/girls-group-91/
END:VEVENT
BEGIN:VEVENT
DTSTART;TZID=UTC:20171226T173000
DTEND;TZID=UTC:20171226T173000
DTSTAMP:20260425T155546
CREATED:20170906T155543Z
LAST-MODIFIED:20170906T155543Z
UID:3002-1514309400-1514309400@georgetownsouth.org
SUMMARY:Tutoring
DESCRIPTION:
URL:https://georgetownsouth.org/event/tutoring-27/
END:VEVENT
BEGIN:VEVENT
DTSTART;TZID=UTC:20171225T080000
DTEND;TZID=UTC:20171225T080000
DTSTAMP:20260425T155546
CREATED:20170906T155255Z
LAST-MODIFIED:20170906T155255Z
UID:3000-1514188800-1514188800@georgetownsouth.org
SUMMARY:Christmas Eve (Office Closed)
DESCRIPTION:
URL:https://georgetownsouth.org/event/christmas-eve-office-closed/
END:VEVENT
END:VCALENDAR