BEGIN:VCALENDAR
VERSION:2.0
PRODID:-//Georgetown South - ECPv6.15.20//NONSGML v1.0//EN
CALSCALE:GREGORIAN
METHOD:PUBLISH
X-WR-CALNAME:Georgetown South
X-ORIGINAL-URL:https://georgetownsouth.org
X-WR-CALDESC:Events for Georgetown South
REFRESH-INTERVAL;VALUE=DURATION:PT1H
X-Robots-Tag:noindex
X-PUBLISHED-TTL:PT1H
BEGIN:VTIMEZONE
TZID:UTC
BEGIN:STANDARD
TZOFFSETFROM:+0000
TZOFFSETTO:+0000
TZNAME:UTC
DTSTART:20240101T000000
END:STANDARD
END:VTIMEZONE
BEGIN:VEVENT
DTSTART;VALUE=DATE:20250704
DTEND;VALUE=DATE:20250705
DTSTAMP:20260420T151514
CREATED:20250121T200946Z
LAST-MODIFIED:20250121T200946Z
UID:6785-1751587200-1751673599@georgetownsouth.org
SUMMARY:Office closed for Independence Day
DESCRIPTION:
URL:https://georgetownsouth.org/event/office-closed-for-independence-day/
END:VEVENT
BEGIN:VEVENT
DTSTART;VALUE=DATE:20250901
DTEND;VALUE=DATE:20250902
DTSTAMP:20260420T151514
CREATED:20250121T201214Z
LAST-MODIFIED:20250121T201214Z
UID:6787-1756684800-1756771199@georgetownsouth.org
SUMMARY:Office Closed for Labor Day
DESCRIPTION:
URL:https://georgetownsouth.org/event/office-closed-for-labor-day/
END:VEVENT
BEGIN:VEVENT
DTSTART;TZID=UTC:20250926T180000
DTEND;TZID=UTC:20250926T220000
DTSTAMP:20260420T151514
CREATED:20250121T201400Z
LAST-MODIFIED:20250121T201400Z
UID:6789-1758909600-1758924000@georgetownsouth.org
SUMMARY:Tapas and Tequila Fundraiser
DESCRIPTION:Learn more at www.gtsccf.org
URL:https://georgetownsouth.org/event/tapas-and-tequila-fundraiser/
END:VEVENT
BEGIN:VEVENT
DTSTART;TZID=UTC:20251127T080000
DTEND;TZID=UTC:20251128T163000
DTSTAMP:20260420T151514
CREATED:20250121T201541Z
LAST-MODIFIED:20250121T201541Z
UID:6791-1764230400-1764347400@georgetownsouth.org
SUMMARY:Office Closed for Thanksgiving
DESCRIPTION:
URL:https://georgetownsouth.org/event/office-closed-for-thanksgiving/
END:VEVENT
BEGIN:VEVENT
DTSTART;TZID=UTC:20251222T080000
DTEND;TZID=UTC:20260102T170000
DTSTAMP:20260420T151514
CREATED:20250121T201648Z
LAST-MODIFIED:20250121T201648Z
UID:6793-1766390400-1767373200@georgetownsouth.org
SUMMARY:Office Closed for the Holidays
DESCRIPTION:
URL:https://georgetownsouth.org/event/office-closed-for-the-holidays/
END:VEVENT
END:VCALENDAR