BEGIN:VCALENDAR
VERSION:2.0
PRODID:-//Georgetown South - ECPv6.15.20//NONSGML v1.0//EN
CALSCALE:GREGORIAN
METHOD:PUBLISH
X-WR-CALNAME:Georgetown South
X-ORIGINAL-URL:https://georgetownsouth.org
X-WR-CALDESC:Events for Georgetown South
REFRESH-INTERVAL;VALUE=DURATION:PT1H
X-Robots-Tag:noindex
X-PUBLISHED-TTL:PT1H
BEGIN:VTIMEZONE
TZID:UTC
BEGIN:STANDARD
TZOFFSETFROM:+0000
TZOFFSETTO:+0000
TZNAME:UTC
DTSTART:20230101T000000
END:STANDARD
END:VTIMEZONE
BEGIN:VEVENT
DTSTART;TZID=UTC:20240409T180000
DTEND;TZID=UTC:20240409T193000
DTSTAMP:20260420T110948
CREATED:20240201T164917Z
LAST-MODIFIED:20240201T164917Z
UID:6601-1712685600-1712691000@georgetownsouth.org
SUMMARY:HOA Board Meeting - Reunion de la Junta Directiva
DESCRIPTION:
URL:https://georgetownsouth.org/event/hoa-board-meeting-reunion-de-la-junta-directiva/
END:VEVENT
BEGIN:VEVENT
DTSTART;TZID=UTC:20240411T133000
DTEND;TZID=UTC:20240411T150000
DTSTAMP:20260420T110948
CREATED:20240201T164707Z
LAST-MODIFIED:20240201T164707Z
UID:6599-1712842200-1712847600@georgetownsouth.org
SUMMARY:Mobile Market - Mercado Mobil
DESCRIPTION:
URL:https://georgetownsouth.org/event/mobile-market-mercado-mobil-3/
END:VEVENT
BEGIN:VEVENT
DTSTART;TZID=UTC:20240417T120000
DTEND;TZID=UTC:20240417T133000
DTSTAMP:20260420T110948
CREATED:20240201T165108Z
LAST-MODIFIED:20240201T165108Z
UID:6603-1713355200-1713360600@georgetownsouth.org
SUMMARY:Women Empowerment Workshop - Taller de Empoderamiento de la Mujer
DESCRIPTION:
URL:https://georgetownsouth.org/event/women-empowerment-workshop-taller-de-empoderamiento-de-la-mujer-5/
END:VEVENT
BEGIN:VEVENT
DTSTART;TZID=UTC:20240417T170000
DTEND;TZID=UTC:20240417T190000
DTSTAMP:20260420T110948
CREATED:20240201T165225Z
LAST-MODIFIED:20240201T165225Z
UID:6605-1713373200-1713380400@georgetownsouth.org
SUMMARY:LEAP Parent Workshop - Taller para padre presentado por LEAP
DESCRIPTION:
URL:https://georgetownsouth.org/event/leap-parent-workshop-taller-para-padre-presentado-por-leap/
END:VEVENT
BEGIN:VEVENT
DTSTART;TZID=UTC:20240424T170000
DTEND;TZID=UTC:20240424T183000
DTSTAMP:20260420T110948
CREATED:20240201T170718Z
LAST-MODIFIED:20240201T170718Z
UID:6607-1713978000-1713983400@georgetownsouth.org
SUMMARY:Family Wellness Workshop - Taller de Bienestar Familiar
DESCRIPTION:
URL:https://georgetownsouth.org/event/family-wellness-workshop-taller-de-bienestar-familiar/
END:VEVENT
BEGIN:VEVENT
DTSTART;TZID=UTC:20240425T133000
DTEND;TZID=UTC:20240425T150000
DTSTAMP:20260420T110948
CREATED:20240201T170818Z
LAST-MODIFIED:20240201T170818Z
UID:6609-1714051800-1714057200@georgetownsouth.org
SUMMARY:Mobile Market - Mercado Mobil
DESCRIPTION:
URL:https://georgetownsouth.org/event/mobile-market-mercado-mobil-4/
END:VEVENT
BEGIN:VEVENT
DTSTART;TZID=UTC:20250210T160000
DTEND;TZID=UTC:20250210T190000
DTSTAMP:20260420T110948
CREATED:20250210T192235Z
LAST-MODIFIED:20250210T192235Z
UID:7013-1739203200-1739214000@georgetownsouth.org
SUMMARY:Kuma Lab
DESCRIPTION:
URL:https://georgetownsouth.org/event/kuma-lab/
END:VEVENT
BEGIN:VEVENT
DTSTART;TZID=UTC:20250211T160000
DTEND;TZID=UTC:20250211T190000
DTSTAMP:20260420T110948
CREATED:20250210T192444Z
LAST-MODIFIED:20250210T192444Z
UID:7015-1739289600-1739300400@georgetownsouth.org
SUMMARY:Kuma Lab
DESCRIPTION:
URL:https://georgetownsouth.org/event/kuma-lab-3/
END:VEVENT
BEGIN:VEVENT
DTSTART;TZID=UTC:20250212T160000
DTEND;TZID=UTC:20250212T170000
DTSTAMP:20260420T110948
CREATED:20250210T191253Z
LAST-MODIFIED:20250210T191253Z
UID:7005-1739376000-1739379600@georgetownsouth.org
SUMMARY:Leaders of Today
DESCRIPTION:
URL:https://georgetownsouth.org/event/leaders-of-today/
END:VEVENT
BEGIN:VEVENT
DTSTART;TZID=UTC:20250212T160000
DTEND;TZID=UTC:20250212T190000
DTSTAMP:20260420T110948
CREATED:20250210T192551Z
LAST-MODIFIED:20250210T192551Z
UID:7017-1739376000-1739386800@georgetownsouth.org
SUMMARY:Kuma Lab
DESCRIPTION:
URL:https://georgetownsouth.org/event/kuma-lab-4/
END:VEVENT
BEGIN:VEVENT
DTSTART;TZID=UTC:20250212T180000
DTEND;TZID=UTC:20250212T200000
DTSTAMP:20260420T110948
CREATED:20250210T191339Z
LAST-MODIFIED:20250210T191339Z
UID:7007-1739383200-1739390400@georgetownsouth.org
SUMMARY:Planning your future
DESCRIPTION:
URL:https://georgetownsouth.org/event/planning-your-future/
END:VEVENT
BEGIN:VEVENT
DTSTART;TZID=UTC:20250213T160000
DTEND;TZID=UTC:20250213T190000
DTSTAMP:20260420T110948
CREATED:20250210T192636Z
LAST-MODIFIED:20250210T192645Z
UID:7019-1739462400-1739473200@georgetownsouth.org
SUMMARY:Kuma Lab
DESCRIPTION:
URL:https://georgetownsouth.org/event/kuma-lab-5/
END:VEVENT
BEGIN:VEVENT
DTSTART;VALUE=DATE:20250217
DTEND;VALUE=DATE:20250218
DTSTAMP:20260420T110948
CREATED:20250121T200355Z
LAST-MODIFIED:20250121T200355Z
UID:6777-1739750400-1739836799@georgetownsouth.org
SUMMARY:Office Closed for Presidents Day
DESCRIPTION:
URL:https://georgetownsouth.org/event/office-closed-for-presidents-day/
END:VEVENT
BEGIN:VEVENT
DTSTART;TZID=UTC:20250218T160000
DTEND;TZID=UTC:20250218T190000
DTSTAMP:20260420T110948
CREATED:20250210T192816Z
LAST-MODIFIED:20250210T192816Z
UID:7021-1739894400-1739905200@georgetownsouth.org
SUMMARY:Kuma Lab
DESCRIPTION:
URL:https://georgetownsouth.org/event/kuma-lab-6/
END:VEVENT
BEGIN:VEVENT
DTSTART;TZID=UTC:20250219T160000
DTEND;TZID=UTC:20250219T170000
DTSTAMP:20260420T110948
CREATED:20250210T193021Z
LAST-MODIFIED:20250210T193021Z
UID:7025-1739980800-1739984400@georgetownsouth.org
SUMMARY:Leaders of Today
DESCRIPTION:
URL:https://georgetownsouth.org/event/leaders-of-today-2/
END:VEVENT
BEGIN:VEVENT
DTSTART;TZID=UTC:20250219T160000
DTEND;TZID=UTC:20250219T190000
DTSTAMP:20260420T110948
CREATED:20250210T192915Z
LAST-MODIFIED:20250210T192915Z
UID:7023-1739980800-1739991600@georgetownsouth.org
SUMMARY:Kuma Lab
DESCRIPTION:
URL:https://georgetownsouth.org/event/kuma-lab-7/
END:VEVENT
BEGIN:VEVENT
DTSTART;TZID=UTC:20250219T180000
DTEND;TZID=UTC:20250219T203000
DTSTAMP:20260420T110948
CREATED:20250210T193100Z
LAST-MODIFIED:20250210T193100Z
UID:7027-1739988000-1739997000@georgetownsouth.org
SUMMARY:Planning for your future
DESCRIPTION:
URL:https://georgetownsouth.org/event/planning-for-your-future/
END:VEVENT
BEGIN:VEVENT
DTSTART;TZID=UTC:20250220T160000
DTEND;TZID=UTC:20250220T190000
DTSTAMP:20260420T110948
CREATED:20250210T193127Z
LAST-MODIFIED:20250210T193127Z
UID:7029-1740067200-1740078000@georgetownsouth.org
SUMMARY:Kuma Lab
DESCRIPTION:
URL:https://georgetownsouth.org/event/kuma-lab-8/
END:VEVENT
BEGIN:VEVENT
DTSTART;TZID=UTC:20250224T160000
DTEND;TZID=UTC:20250224T190000
DTSTAMP:20260420T110948
CREATED:20250210T193534Z
LAST-MODIFIED:20250210T193534Z
UID:7031-1740412800-1740423600@georgetownsouth.org
SUMMARY:Kuma Lab
DESCRIPTION:
URL:https://georgetownsouth.org/event/kuma-lab-9/
END:VEVENT
BEGIN:VEVENT
DTSTART;TZID=UTC:20250225T160000
DTEND;TZID=UTC:20250225T190000
DTSTAMP:20260420T110948
CREATED:20250210T193606Z
LAST-MODIFIED:20250210T193606Z
UID:7033-1740499200-1740510000@georgetownsouth.org
SUMMARY:Kuma Lab
DESCRIPTION:
URL:https://georgetownsouth.org/event/kuma-lab-10/
END:VEVENT
BEGIN:VEVENT
DTSTART;TZID=UTC:20250226T160000
DTEND;TZID=UTC:20250226T170000
DTSTAMP:20260420T110948
CREATED:20250210T193701Z
LAST-MODIFIED:20250210T193701Z
UID:7037-1740585600-1740589200@georgetownsouth.org
SUMMARY:Leaders of Today
DESCRIPTION:
URL:https://georgetownsouth.org/event/leaders-of-today-3/
END:VEVENT
BEGIN:VEVENT
DTSTART;TZID=UTC:20250226T160000
DTEND;TZID=UTC:20250226T190000
DTSTAMP:20260420T110948
CREATED:20250210T193628Z
LAST-MODIFIED:20250210T193628Z
UID:7035-1740585600-1740596400@georgetownsouth.org
SUMMARY:Kuma Lab
DESCRIPTION:
URL:https://georgetownsouth.org/event/kuma-lab-11/
END:VEVENT
BEGIN:VEVENT
DTSTART;TZID=UTC:20250226T170000
DTEND;TZID=UTC:20250226T190000
DTSTAMP:20260420T110948
CREATED:20250210T194506Z
LAST-MODIFIED:20250210T194506Z
UID:7045-1740589200-1740596400@georgetownsouth.org
SUMMARY:Walk with confidence and standout workshop
DESCRIPTION:
URL:https://georgetownsouth.org/event/walk-with-confidence-and-standout-workshop/
END:VEVENT
BEGIN:VEVENT
DTSTART;TZID=UTC:20250226T180000
DTEND;TZID=UTC:20250226T203000
DTSTAMP:20260420T110948
CREATED:20250210T193735Z
LAST-MODIFIED:20250210T193735Z
UID:7039-1740592800-1740601800@georgetownsouth.org
SUMMARY:Planning for your future
DESCRIPTION:
URL:https://georgetownsouth.org/event/planning-for-your-future-2/
END:VEVENT
BEGIN:VEVENT
DTSTART;TZID=UTC:20250227T120000
DTEND;TZID=UTC:20250227T140000
DTSTAMP:20260420T110948
CREATED:20250210T193825Z
LAST-MODIFIED:20250210T193825Z
UID:7041-1740657600-1740664800@georgetownsouth.org
SUMMARY:Mobile Market
DESCRIPTION:
URL:https://georgetownsouth.org/event/mobile-market-13/
END:VEVENT
BEGIN:VEVENT
DTSTART;TZID=UTC:20250227T160000
DTEND;TZID=UTC:20250227T190000
DTSTAMP:20260420T110948
CREATED:20250210T193927Z
LAST-MODIFIED:20250210T193927Z
UID:7043-1740672000-1740682800@georgetownsouth.org
SUMMARY:Kuma Lab
DESCRIPTION:
URL:https://georgetownsouth.org/event/kuma-lab-12/
END:VEVENT
BEGIN:VEVENT
DTSTART;TZID=UTC:20250303T160000
DTEND;TZID=UTC:20250303T190000
DTSTAMP:20260420T110948
CREATED:20250210T200920Z
LAST-MODIFIED:20250210T200920Z
UID:7047-1741017600-1741028400@georgetownsouth.org
SUMMARY:Kuma Lab
DESCRIPTION:
URL:https://georgetownsouth.org/event/kuma-lab-13/
END:VEVENT
BEGIN:VEVENT
DTSTART;TZID=UTC:20250311T180000
DTEND;TZID=UTC:20250311T200000
DTSTAMP:20260420T110948
CREATED:20250121T200618Z
LAST-MODIFIED:20250121T200618Z
UID:6779-1741716000-1741723200@georgetownsouth.org
SUMMARY:Annual Meeting
DESCRIPTION:
URL:https://georgetownsouth.org/event/annual-meeting-5/
END:VEVENT
BEGIN:VEVENT
DTSTART;TZID=UTC:20250412T100000
DTEND;TZID=UTC:20250412T110000
DTSTAMP:20260420T110948
CREATED:20250121T200742Z
LAST-MODIFIED:20250121T200742Z
UID:6781-1744452000-1744455600@georgetownsouth.org
SUMMARY:Easter Egg Hunt
DESCRIPTION:
URL:https://georgetownsouth.org/event/easter-egg-hunt-2/
END:VEVENT
BEGIN:VEVENT
DTSTART;VALUE=DATE:20250526
DTEND;VALUE=DATE:20250527
DTSTAMP:20260420T110948
CREATED:20250121T200821Z
LAST-MODIFIED:20250121T200821Z
UID:6783-1748217600-1748303999@georgetownsouth.org
SUMMARY:Office Closed for Memorial Day
DESCRIPTION:
URL:https://georgetownsouth.org/event/office-closed-for-memorial-day-2/
END:VEVENT
END:VCALENDAR