BEGIN:VCALENDAR
VERSION:2.0
PRODID:-//Georgetown South - ECPv6.15.20//NONSGML v1.0//EN
CALSCALE:GREGORIAN
METHOD:PUBLISH
X-ORIGINAL-URL:https://georgetownsouth.org
X-WR-CALDESC:Events for Georgetown South
REFRESH-INTERVAL;VALUE=DURATION:PT1H
X-Robots-Tag:noindex
X-PUBLISHED-TTL:PT1H
BEGIN:VTIMEZONE
TZID:UTC
BEGIN:STANDARD
TZOFFSETFROM:+0000
TZOFFSETTO:+0000
TZNAME:UTC
DTSTART:20160101T000000
END:STANDARD
END:VTIMEZONE
BEGIN:VEVENT
DTSTART;TZID=UTC:20171115T150000
DTEND;TZID=UTC:20171115T150000
DTSTAMP:20260424T143003
CREATED:20170828T135922Z
LAST-MODIFIED:20170828T135922Z
UID:2853-1510758000-1510758000@georgetownsouth.org
SUMMARY:Don Bosco
DESCRIPTION:
URL:https://georgetownsouth.org/event/don-bosco-141/
END:VEVENT
BEGIN:VEVENT
DTSTART;TZID=UTC:20171114T190000
DTEND;TZID=UTC:20171114T190000
DTSTAMP:20260424T143003
CREATED:20170828T153451Z
LAST-MODIFIED:20170828T153504Z
UID:2868-1510686000-1510686000@georgetownsouth.org
SUMMARY:Girls Group
DESCRIPTION:
URL:https://georgetownsouth.org/event/girls-group-85/
END:VEVENT
BEGIN:VEVENT
DTSTART;TZID=UTC:20171114T173000
DTEND;TZID=UTC:20171114T173000
DTSTAMP:20260424T143003
CREATED:20170828T153410Z
LAST-MODIFIED:20170828T153410Z
UID:2866-1510680600-1510680600@georgetownsouth.org
SUMMARY:Tutoring
DESCRIPTION:
URL:https://georgetownsouth.org/event/tutoring-17/
END:VEVENT
BEGIN:VEVENT
DTSTART;TZID=UTC:20171113T193000
DTEND;TZID=UTC:20171113T193000
DTSTAMP:20260424T143003
CREATED:20170825T203145Z
LAST-MODIFIED:20170825T203145Z
UID:2848-1510601400-1510601400@georgetownsouth.org
SUMMARY:Caminando Con El Espiritu Santo
DESCRIPTION:
URL:https://georgetownsouth.org/event/caminando-con-el-espiritu-santo-3/
END:VEVENT
BEGIN:VEVENT
DTSTART;TZID=UTC:20171113T150000
DTEND;TZID=UTC:20171113T150000
DTSTAMP:20260424T143003
CREATED:20170825T202400Z
LAST-MODIFIED:20170825T202400Z
UID:2846-1510585200-1510585200@georgetownsouth.org
SUMMARY:Don Bosco
DESCRIPTION:
URL:https://georgetownsouth.org/event/don-bosco-140/
END:VEVENT
BEGIN:VEVENT
DTSTART;TZID=UTC:20171112T103000
DTEND;TZID=UTC:20171112T103000
DTSTAMP:20260424T143003
CREATED:20170825T201119Z
LAST-MODIFIED:20170825T201119Z
UID:2844-1510482600-1510482600@georgetownsouth.org
SUMMARY:Vida Nueva
DESCRIPTION:
URL:https://georgetownsouth.org/event/vida-nueva-161/
END:VEVENT
BEGIN:VEVENT
DTSTART;TZID=UTC:20171112T080000
DTEND;TZID=UTC:20171112T170000
DTSTAMP:20260424T143003
CREATED:20170825T195843Z
LAST-MODIFIED:20170825T195843Z
UID:2842-1510473600-1510506000@georgetownsouth.org
SUMMARY:New Beginnings
DESCRIPTION:
URL:https://georgetownsouth.org/event/new-beginnings-14/
END:VEVENT
BEGIN:VEVENT
DTSTART;TZID=UTC:20171110T150000
DTEND;TZID=UTC:20171110T150000
DTSTAMP:20260424T143003
CREATED:20170825T181838Z
LAST-MODIFIED:20170825T181838Z
UID:2836-1510326000-1510326000@georgetownsouth.org
SUMMARY:Don Bosco
DESCRIPTION:
URL:https://georgetownsouth.org/event/don-bosco-139/
END:VEVENT
BEGIN:VEVENT
DTSTART;TZID=UTC:20171110T080000
DTEND;TZID=UTC:20171110T200000
DTSTAMP:20260424T143003
CREATED:20170825T181916Z
LAST-MODIFIED:20170828T183017Z
UID:2838-1510300800-1510344000@georgetownsouth.org
SUMMARY:Veterans Day (Office Closed)
DESCRIPTION:
URL:https://georgetownsouth.org/event/vida-nueva-160/
END:VEVENT
BEGIN:VEVENT
DTSTART;TZID=UTC:20171109T190000
DTEND;TZID=UTC:20171109T190000
DTSTAMP:20260424T143003
CREATED:20170825T181122Z
LAST-MODIFIED:20170825T181122Z
UID:2834-1510254000-1510254000@georgetownsouth.org
SUMMARY:Shadai DC
DESCRIPTION:
URL:https://georgetownsouth.org/event/shadai-dc-29/
END:VEVENT
BEGIN:VEVENT
DTSTART;TZID=UTC:20171109T173000
DTEND;TZID=UTC:20171109T173000
DTSTAMP:20260424T143003
CREATED:20170825T181013Z
LAST-MODIFIED:20170825T181013Z
UID:2832-1510248600-1510248600@georgetownsouth.org
SUMMARY:Tutoring
DESCRIPTION:
URL:https://georgetownsouth.org/event/tutoring-16/
END:VEVENT
BEGIN:VEVENT
DTSTART;TZID=UTC:20171108T193000
DTEND;TZID=UTC:20171108T193000
DTSTAMP:20260424T143003
CREATED:20170825T180653Z
LAST-MODIFIED:20170825T180653Z
UID:2828-1510169400-1510169400@georgetownsouth.org
SUMMARY:Chapel Springs ESOL
DESCRIPTION:
URL:https://georgetownsouth.org/event/chapel-springs-esol-64/
END:VEVENT
BEGIN:VEVENT
DTSTART;TZID=UTC:20171108T150000
DTEND;TZID=UTC:20171108T150000
DTSTAMP:20260424T143003
CREATED:20170825T155654Z
LAST-MODIFIED:20170825T155654Z
UID:2825-1510153200-1510153200@georgetownsouth.org
SUMMARY:Don Bosco
DESCRIPTION:
URL:https://georgetownsouth.org/event/don-bosco-138/
END:VEVENT
BEGIN:VEVENT
DTSTART;TZID=UTC:20171107T173000
DTEND;TZID=UTC:20171107T173000
DTSTAMP:20260424T143003
CREATED:20170823T203111Z
LAST-MODIFIED:20170823T203111Z
UID:2822-1510075800-1510075800@georgetownsouth.org
SUMMARY:Girls Group
DESCRIPTION:
URL:https://georgetownsouth.org/event/girls-group-84/
END:VEVENT
BEGIN:VEVENT
DTSTART;TZID=UTC:20171107T173000
DTEND;TZID=UTC:20171107T173000
DTSTAMP:20260424T143003
CREATED:20170823T202758Z
LAST-MODIFIED:20170823T202758Z
UID:2820-1510075800-1510075800@georgetownsouth.org
SUMMARY:Tutoring
DESCRIPTION:
URL:https://georgetownsouth.org/event/tutoring-15/
END:VEVENT
BEGIN:VEVENT
DTSTART;TZID=UTC:20171106T193000
DTEND;TZID=UTC:20171106T193000
DTSTAMP:20260424T143003
CREATED:20170823T202545Z
LAST-MODIFIED:20170823T202545Z
UID:2818-1509996600-1509996600@georgetownsouth.org
SUMMARY:Caminando Con El Espiritu Santo
DESCRIPTION:
URL:https://georgetownsouth.org/event/caminando-con-el-espiritu-santo-2/
END:VEVENT
BEGIN:VEVENT
DTSTART;TZID=UTC:20171106T150000
DTEND;TZID=UTC:20171106T150000
DTSTAMP:20260424T143003
CREATED:20170823T202411Z
LAST-MODIFIED:20170823T202411Z
UID:2816-1509980400-1509980400@georgetownsouth.org
SUMMARY:Don Bosco
DESCRIPTION:
URL:https://georgetownsouth.org/event/don-bosco-137/
END:VEVENT
BEGIN:VEVENT
DTSTART;TZID=UTC:20171105T103000
DTEND;TZID=UTC:20171105T103000
DTSTAMP:20260424T143003
CREATED:20170823T191708Z
LAST-MODIFIED:20170823T191708Z
UID:2814-1509877800-1509877800@georgetownsouth.org
SUMMARY:Vida Nueva
DESCRIPTION:
URL:https://georgetownsouth.org/event/vida-nueva-159/
END:VEVENT
BEGIN:VEVENT
DTSTART;TZID=UTC:20171105T080000
DTEND;TZID=UTC:20171105T170000
DTSTAMP:20260424T143003
CREATED:20170823T190414Z
LAST-MODIFIED:20170823T190414Z
UID:2812-1509868800-1509901200@georgetownsouth.org
SUMMARY:New Beginnings
DESCRIPTION:
URL:https://georgetownsouth.org/event/new-beginnings-13/
END:VEVENT
BEGIN:VEVENT
DTSTART;TZID=UTC:20171103T200000
DTEND;TZID=UTC:20171103T200000
DTSTAMP:20260424T143003
CREATED:20170823T190039Z
LAST-MODIFIED:20170823T190039Z
UID:2810-1509739200-1509739200@georgetownsouth.org
SUMMARY:Vida Nueva
DESCRIPTION:
URL:https://georgetownsouth.org/event/vida-nueva-158/
END:VEVENT
BEGIN:VEVENT
DTSTART;TZID=UTC:20171103T150000
DTEND;TZID=UTC:20171103T180000
DTSTAMP:20260424T143003
CREATED:20170823T185753Z
LAST-MODIFIED:20170823T185753Z
UID:2808-1509721200-1509732000@georgetownsouth.org
SUMMARY:Don Bosco
DESCRIPTION:
URL:https://georgetownsouth.org/event/don-bosco-136/
END:VEVENT
BEGIN:VEVENT
DTSTART;TZID=UTC:20171102T190000
DTEND;TZID=UTC:20171102T190000
DTSTAMP:20260424T143003
CREATED:20170823T185419Z
LAST-MODIFIED:20170823T185419Z
UID:2806-1509649200-1509649200@georgetownsouth.org
SUMMARY:Shadai DC
DESCRIPTION:
URL:https://georgetownsouth.org/event/shadai-dc-28/
END:VEVENT
BEGIN:VEVENT
DTSTART;TZID=UTC:20171102T173000
DTEND;TZID=UTC:20171102T173000
DTSTAMP:20260424T143003
CREATED:20170823T184540Z
LAST-MODIFIED:20170823T184540Z
UID:2804-1509643800-1509643800@georgetownsouth.org
SUMMARY:Tutoring
DESCRIPTION:
URL:https://georgetownsouth.org/event/tutoring-14/
END:VEVENT
BEGIN:VEVENT
DTSTART;TZID=UTC:20171101T193000
DTEND;TZID=UTC:20171101T193000
DTSTAMP:20260424T143003
CREATED:20170823T164609Z
LAST-MODIFIED:20170823T164609Z
UID:2802-1509564600-1509564600@georgetownsouth.org
SUMMARY:Chapel Springs ESOL
DESCRIPTION:
URL:https://georgetownsouth.org/event/chapel-springs-esol-63/
END:VEVENT
BEGIN:VEVENT
DTSTART;TZID=UTC:20171101T150000
DTEND;TZID=UTC:20171101T180000
DTSTAMP:20260424T143003
CREATED:20170823T163751Z
LAST-MODIFIED:20170823T163751Z
UID:2799-1509548400-1509559200@georgetownsouth.org
SUMMARY:Don Bosco
DESCRIPTION:
URL:https://georgetownsouth.org/event/don-bosco-135/
END:VEVENT
BEGIN:VEVENT
DTSTART;TZID=UTC:20171031T190000
DTEND;TZID=UTC:20171031T190000
DTSTAMP:20260424T143003
CREATED:20170823T153010Z
LAST-MODIFIED:20170823T153010Z
UID:2797-1509476400-1509476400@georgetownsouth.org
SUMMARY:Girls Group
DESCRIPTION:
URL:https://georgetownsouth.org/event/girls-group-83/
END:VEVENT
BEGIN:VEVENT
DTSTART;TZID=UTC:20171031T173000
DTEND;TZID=UTC:20171031T173000
DTSTAMP:20260424T143003
CREATED:20170823T152731Z
LAST-MODIFIED:20170823T152731Z
UID:2795-1509471000-1509471000@georgetownsouth.org
SUMMARY:Tutoring
DESCRIPTION:
URL:https://georgetownsouth.org/event/tutoring-13/
END:VEVENT
BEGIN:VEVENT
DTSTART;TZID=UTC:20171030T193000
DTEND;TZID=UTC:20171030T193000
DTSTAMP:20260424T143003
CREATED:20170823T152657Z
LAST-MODIFIED:20170823T152657Z
UID:2793-1509391800-1509391800@georgetownsouth.org
SUMMARY:Caminando Con El Espirtu Santo
DESCRIPTION:
URL:https://georgetownsouth.org/event/caminando-con-el-espirtu-santo/
END:VEVENT
BEGIN:VEVENT
DTSTART;TZID=UTC:20171030T140000
DTEND;TZID=UTC:20171030T140000
DTSTAMP:20260424T143003
CREATED:20170823T152601Z
LAST-MODIFIED:20170823T152601Z
UID:2791-1509372000-1509372000@georgetownsouth.org
SUMMARY:Don Bosco
DESCRIPTION:
URL:https://georgetownsouth.org/event/don-bosco-134/
END:VEVENT
BEGIN:VEVENT
DTSTART;TZID=UTC:20171029T140000
DTEND;TZID=UTC:20171029T140000
DTSTAMP:20260424T143003
CREATED:20170823T152436Z
LAST-MODIFIED:20170823T152436Z
UID:2789-1509285600-1509285600@georgetownsouth.org
SUMMARY:Shadai DC
DESCRIPTION:
URL:https://georgetownsouth.org/event/shadai-dc-27/
END:VEVENT
END:VCALENDAR