BEGIN:VCALENDAR
VERSION:2.0
PRODID:-//Georgetown South - ECPv6.15.20//NONSGML v1.0//EN
CALSCALE:GREGORIAN
METHOD:PUBLISH
X-WR-CALNAME:Georgetown South
X-ORIGINAL-URL:https://georgetownsouth.org
X-WR-CALDESC:Events for Georgetown South
REFRESH-INTERVAL;VALUE=DURATION:PT1H
X-Robots-Tag:noindex
X-PUBLISHED-TTL:PT1H
BEGIN:VTIMEZONE
TZID:UTC
BEGIN:STANDARD
TZOFFSETFROM:+0000
TZOFFSETTO:+0000
TZNAME:UTC
DTSTART:20160101T000000
END:STANDARD
END:VTIMEZONE
BEGIN:VEVENT
DTSTART;TZID=UTC:20171017T173000
DTEND;TZID=UTC:20171017T173000
DTSTAMP:20260426T013449
CREATED:20170623T205011Z
LAST-MODIFIED:20170623T205011Z
UID:2681-1508261400-1508261400@georgetownsouth.org
SUMMARY:Tutoring
DESCRIPTION:
URL:https://georgetownsouth.org/event/tutoring-9/
LOCATION:GTS Community Center
END:VEVENT
BEGIN:VEVENT
DTSTART;TZID=UTC:20171016T193000
DTEND;TZID=UTC:20171016T193000
DTSTAMP:20260426T013449
CREATED:20170623T204915Z
LAST-MODIFIED:20170623T204915Z
UID:2679-1508182200-1508182200@georgetownsouth.org
SUMMARY:Caminando Con El Espiritu
DESCRIPTION:
URL:https://georgetownsouth.org/event/caminando-con-el-espiritu-66/
LOCATION:GTS Community Center
END:VEVENT
BEGIN:VEVENT
DTSTART;TZID=UTC:20171016T150000
DTEND;TZID=UTC:20171016T180000
DTSTAMP:20260426T013449
CREATED:20170623T204842Z
LAST-MODIFIED:20170623T204842Z
UID:2677-1508166000-1508176800@georgetownsouth.org
SUMMARY:Don Bosco
DESCRIPTION:
URL:https://georgetownsouth.org/event/don-bosco-127/
LOCATION:GTS Community Center
END:VEVENT
BEGIN:VEVENT
DTSTART;TZID=UTC:20171015T140000
DTEND;TZID=UTC:20171015T140000
DTSTAMP:20260426T013449
CREATED:20170623T204807Z
LAST-MODIFIED:20170623T204807Z
UID:2675-1508076000-1508076000@georgetownsouth.org
SUMMARY:Shadai DC
DESCRIPTION:
URL:https://georgetownsouth.org/event/shadai-dc-14/
LOCATION:GTS Community Center
END:VEVENT
BEGIN:VEVENT
DTSTART;TZID=UTC:20171015T103000
DTEND;TZID=UTC:20171015T103000
DTSTAMP:20260426T013449
CREATED:20170623T204738Z
LAST-MODIFIED:20170623T204738Z
UID:2673-1508063400-1508063400@georgetownsouth.org
SUMMARY:Vida Nueva
DESCRIPTION:
URL:https://georgetownsouth.org/event/vida-nueva-153/
LOCATION:GTS Community Center
END:VEVENT
BEGIN:VEVENT
DTSTART;TZID=UTC:20171015T000000
DTEND;TZID=UTC:20171015T000000
DTSTAMP:20260426T013449
CREATED:20170623T204524Z
LAST-MODIFIED:20170623T204524Z
UID:2671-1508025600-1508025600@georgetownsouth.org
SUMMARY:New Beginnings
DESCRIPTION:
URL:https://georgetownsouth.org/event/new-beginnings-10/
LOCATION:Pavilion
END:VEVENT
BEGIN:VEVENT
DTSTART;TZID=UTC:20171014T170000
DTEND;TZID=UTC:20171014T170000
DTSTAMP:20260426T013449
CREATED:20170623T170056Z
LAST-MODIFIED:20170623T170330Z
UID:2669-1508000400-1508000400@georgetownsouth.org
SUMMARY:Caminando Con El Espiritu
DESCRIPTION:
URL:https://georgetownsouth.org/event/caminando-con-el-espiritu-72/
LOCATION:GTS Community Center
END:VEVENT
BEGIN:VEVENT
DTSTART;TZID=UTC:20171013T200000
DTEND;TZID=UTC:20171013T200000
DTSTAMP:20260426T013449
CREATED:20170623T170017Z
LAST-MODIFIED:20170623T170017Z
UID:2667-1507924800-1507924800@georgetownsouth.org
SUMMARY:Vida Nueva
DESCRIPTION:
URL:https://georgetownsouth.org/event/vida-nueva-152/
LOCATION:GTS Community Center
END:VEVENT
BEGIN:VEVENT
DTSTART;TZID=UTC:20171013T150000
DTEND;TZID=UTC:20171013T180000
DTSTAMP:20260426T013449
CREATED:20170623T165650Z
LAST-MODIFIED:20170623T165650Z
UID:2665-1507906800-1507917600@georgetownsouth.org
SUMMARY:Don Bosco
DESCRIPTION:
URL:https://georgetownsouth.org/event/don-bosco-126/
LOCATION:GTS Community Center
END:VEVENT
BEGIN:VEVENT
DTSTART;TZID=UTC:20171012T190000
DTEND;TZID=UTC:20171012T190000
DTSTAMP:20260426T013449
CREATED:20170623T165619Z
LAST-MODIFIED:20170623T165619Z
UID:2663-1507834800-1507834800@georgetownsouth.org
SUMMARY:Shadai DC
DESCRIPTION:
URL:https://georgetownsouth.org/event/shadai-dc-13/
LOCATION:GTS Community Center
END:VEVENT
BEGIN:VEVENT
DTSTART;TZID=UTC:20171012T173000
DTEND;TZID=UTC:20171012T173000
DTSTAMP:20260426T013449
CREATED:20170623T165315Z
LAST-MODIFIED:20170623T165550Z
UID:2661-1507829400-1507829400@georgetownsouth.org
SUMMARY:Tutoring
DESCRIPTION:
URL:https://georgetownsouth.org/event/tutoring-8/
LOCATION:GTS Community Center
END:VEVENT
BEGIN:VEVENT
DTSTART;TZID=UTC:20171011T193000
DTEND;TZID=UTC:20171011T210000
DTSTAMP:20260426T013449
CREATED:20170623T165251Z
LAST-MODIFIED:20170623T165251Z
UID:2659-1507750200-1507755600@georgetownsouth.org
SUMMARY:Chapel Springs ESOL
DESCRIPTION:
URL:https://georgetownsouth.org/event/chapel-springs-esol-59/
LOCATION:GTS Community Center
END:VEVENT
BEGIN:VEVENT
DTSTART;TZID=UTC:20171011T150000
DTEND;TZID=UTC:20171011T180000
DTSTAMP:20260426T013449
CREATED:20170623T165220Z
LAST-MODIFIED:20170623T165220Z
UID:2657-1507734000-1507744800@georgetownsouth.org
SUMMARY:Don Bosco
DESCRIPTION:
URL:https://georgetownsouth.org/event/don-bosco-125/
LOCATION:GTS Community Center
END:VEVENT
BEGIN:VEVENT
DTSTART;TZID=UTC:20171010T190000
DTEND;TZID=UTC:20171010T190000
DTSTAMP:20260426T013449
CREATED:20170623T165153Z
LAST-MODIFIED:20170623T165153Z
UID:2655-1507662000-1507662000@georgetownsouth.org
SUMMARY:Girls Group
DESCRIPTION:
URL:https://georgetownsouth.org/event/girls-group-79/
LOCATION:GTS Community Center
END:VEVENT
BEGIN:VEVENT
DTSTART;TZID=UTC:20171010T173000
DTEND;TZID=UTC:20171010T173000
DTSTAMP:20260426T013449
CREATED:20170623T165130Z
LAST-MODIFIED:20170623T165130Z
UID:2653-1507656600-1507656600@georgetownsouth.org
SUMMARY:Tutoring
DESCRIPTION:
URL:https://georgetownsouth.org/event/tutoring-7/
LOCATION:GTS Community Center
END:VEVENT
BEGIN:VEVENT
DTSTART;TZID=UTC:20171010T173000
DTEND;TZID=UTC:20171010T173000
DTSTAMP:20260426T013449
CREATED:20170623T165104Z
LAST-MODIFIED:20170623T165104Z
UID:2651-1507656600-1507656600@georgetownsouth.org
SUMMARY:Board Meeting
DESCRIPTION:
URL:https://georgetownsouth.org/event/board-meeting-6/
LOCATION:GTS Community Center
END:VEVENT
BEGIN:VEVENT
DTSTART;TZID=UTC:20171009T193000
DTEND;TZID=UTC:20171009T193000
DTSTAMP:20260426T013449
CREATED:20170623T165007Z
LAST-MODIFIED:20170623T165007Z
UID:2649-1507577400-1507577400@georgetownsouth.org
SUMMARY:Caminando Con El Espiritu
DESCRIPTION:
URL:https://georgetownsouth.org/event/caminando-con-el-espiritu-71/
LOCATION:GTS Community Center
END:VEVENT
BEGIN:VEVENT
DTSTART;TZID=UTC:20171009T150000
DTEND;TZID=UTC:20171009T180000
DTSTAMP:20260426T013449
CREATED:20170623T164932Z
LAST-MODIFIED:20170623T164932Z
UID:2647-1507561200-1507572000@georgetownsouth.org
SUMMARY:Don Bosco
DESCRIPTION:
URL:https://georgetownsouth.org/event/don-bosco-124/
LOCATION:GTS Community Center
END:VEVENT
BEGIN:VEVENT
DTSTART;TZID=UTC:20171008T140000
DTEND;TZID=UTC:20171008T140000
DTSTAMP:20260426T013449
CREATED:20170623T164855Z
LAST-MODIFIED:20170623T164855Z
UID:2645-1507471200-1507471200@georgetownsouth.org
SUMMARY:Shadai DC
DESCRIPTION:
URL:https://georgetownsouth.org/event/shadai-dc-12/
LOCATION:GTS Community Center
END:VEVENT
BEGIN:VEVENT
DTSTART;TZID=UTC:20171008T103000
DTEND;TZID=UTC:20171008T103000
DTSTAMP:20260426T013449
CREATED:20170623T164823Z
LAST-MODIFIED:20170623T164823Z
UID:2643-1507458600-1507458600@georgetownsouth.org
SUMMARY:Vida Nueva
DESCRIPTION:
URL:https://georgetownsouth.org/event/vida-nueva-151/
LOCATION:GTS Community Center
END:VEVENT
BEGIN:VEVENT
DTSTART;TZID=UTC:20171008T000000
DTEND;TZID=UTC:20171008T000000
DTSTAMP:20260426T013449
CREATED:20170623T164746Z
LAST-MODIFIED:20170623T164746Z
UID:2641-1507420800-1507420800@georgetownsouth.org
SUMMARY:New Beginnings
DESCRIPTION:
URL:https://georgetownsouth.org/event/new-beginnings-9/
LOCATION:Pavilion
END:VEVENT
BEGIN:VEVENT
DTSTART;TZID=UTC:20171006T200000
DTEND;TZID=UTC:20171006T200000
DTSTAMP:20260426T013449
CREATED:20170623T164711Z
LAST-MODIFIED:20170623T164711Z
UID:2639-1507320000-1507320000@georgetownsouth.org
SUMMARY:Vida Nueva
DESCRIPTION:
URL:https://georgetownsouth.org/event/vida-nueva-150/
LOCATION:GTS Community Center
END:VEVENT
BEGIN:VEVENT
DTSTART;TZID=UTC:20171006T150000
DTEND;TZID=UTC:20171006T180000
DTSTAMP:20260426T013449
CREATED:20170623T164645Z
LAST-MODIFIED:20170623T164645Z
UID:2637-1507302000-1507312800@georgetownsouth.org
SUMMARY:Don Bosco
DESCRIPTION:
URL:https://georgetownsouth.org/event/don-bosco-123/
LOCATION:GTS Community Center
END:VEVENT
BEGIN:VEVENT
DTSTART;TZID=UTC:20171005T190000
DTEND;TZID=UTC:20171005T190000
DTSTAMP:20260426T013449
CREATED:20170623T164601Z
LAST-MODIFIED:20170623T164601Z
UID:2635-1507230000-1507230000@georgetownsouth.org
SUMMARY:Shadai DC
DESCRIPTION:
URL:https://georgetownsouth.org/event/shadai-dc-11/
LOCATION:GTS Community Center
END:VEVENT
BEGIN:VEVENT
DTSTART;TZID=UTC:20171005T173000
DTEND;TZID=UTC:20171005T173000
DTSTAMP:20260426T013449
CREATED:20170623T164533Z
LAST-MODIFIED:20170623T164533Z
UID:2633-1507224600-1507224600@georgetownsouth.org
SUMMARY:Tutoring
DESCRIPTION:
URL:https://georgetownsouth.org/event/tutoring-6/
LOCATION:GTS Community Center
END:VEVENT
BEGIN:VEVENT
DTSTART;TZID=UTC:20171004T150000
DTEND;TZID=UTC:20171004T180000
DTSTAMP:20260426T013449
CREATED:20170623T164455Z
LAST-MODIFIED:20170623T164455Z
UID:2631-1507129200-1507140000@georgetownsouth.org
SUMMARY:Chapel Springs ESOL
DESCRIPTION:
URL:https://georgetownsouth.org/event/chapel-springs-esol-58/
LOCATION:GTS Community Center
END:VEVENT
BEGIN:VEVENT
DTSTART;TZID=UTC:20171004T150000
DTEND;TZID=UTC:20171004T180000
DTSTAMP:20260426T013449
CREATED:20170623T164415Z
LAST-MODIFIED:20170623T164415Z
UID:2629-1507129200-1507140000@georgetownsouth.org
SUMMARY:Don Bosco
DESCRIPTION:
URL:https://georgetownsouth.org/event/don-bosco-122/
LOCATION:GTS Community Center
END:VEVENT
BEGIN:VEVENT
DTSTART;TZID=UTC:20171003T190000
DTEND;TZID=UTC:20171003T190000
DTSTAMP:20260426T013449
CREATED:20170623T164343Z
LAST-MODIFIED:20170623T164343Z
UID:2627-1507057200-1507057200@georgetownsouth.org
SUMMARY:Girls Group
DESCRIPTION:
URL:https://georgetownsouth.org/event/girls-group-78/
LOCATION:GTS Community Center
END:VEVENT
BEGIN:VEVENT
DTSTART;TZID=UTC:20171003T173000
DTEND;TZID=UTC:20171003T173000
DTSTAMP:20260426T013449
CREATED:20170623T164131Z
LAST-MODIFIED:20170623T164131Z
UID:2625-1507051800-1507051800@georgetownsouth.org
SUMMARY:Tutoring
DESCRIPTION:
URL:https://georgetownsouth.org/event/tutoring-5/
LOCATION:GTS Community Center
END:VEVENT
BEGIN:VEVENT
DTSTART;TZID=UTC:20171002T193000
DTEND;TZID=UTC:20171002T193000
DTSTAMP:20260426T013449
CREATED:20170623T164006Z
LAST-MODIFIED:20170623T164006Z
UID:2623-1506972600-1506972600@georgetownsouth.org
SUMMARY:Caminando Con El Espiritu
DESCRIPTION:
URL:https://georgetownsouth.org/event/caminando-con-el-espiritu-70/
LOCATION:GTS Community Center
END:VEVENT
END:VCALENDAR