BEGIN:VCALENDAR
VERSION:2.0
PRODID:-//Georgetown South - ECPv6.15.20//NONSGML v1.0//EN
CALSCALE:GREGORIAN
METHOD:PUBLISH
X-WR-CALNAME:Georgetown South
X-ORIGINAL-URL:https://georgetownsouth.org
X-WR-CALDESC:Events for Georgetown South
REFRESH-INTERVAL;VALUE=DURATION:PT1H
X-Robots-Tag:noindex
X-PUBLISHED-TTL:PT1H
BEGIN:VTIMEZONE
TZID:UTC
BEGIN:STANDARD
TZOFFSETFROM:+0000
TZOFFSETTO:+0000
TZNAME:UTC
DTSTART:20160101T000000
END:STANDARD
END:VTIMEZONE
BEGIN:VEVENT
DTSTART;TZID=UTC:20171128T173000
DTEND;TZID=UTC:20171128T173000
DTSTAMP:20260424T142919
CREATED:20170829T135006Z
LAST-MODIFIED:20170829T135006Z
UID:2907-1511890200-1511890200@georgetownsouth.org
SUMMARY:Tutoring
DESCRIPTION:
URL:https://georgetownsouth.org/event/tutoring-20/
END:VEVENT
BEGIN:VEVENT
DTSTART;TZID=UTC:20171127T193000
DTEND;TZID=UTC:20171127T193000
DTSTAMP:20260424T142919
CREATED:20170829T133620Z
LAST-MODIFIED:20170829T133620Z
UID:2905-1511811000-1511811000@georgetownsouth.org
SUMMARY:Caminando Con El Espiritu
DESCRIPTION:
URL:https://georgetownsouth.org/event/caminando-con-el-espiritu-77/
END:VEVENT
BEGIN:VEVENT
DTSTART;TZID=UTC:20171127T150000
DTEND;TZID=UTC:20171127T150000
DTSTAMP:20260424T142919
CREATED:20170829T131419Z
LAST-MODIFIED:20170829T131419Z
UID:2903-1511794800-1511794800@georgetownsouth.org
SUMMARY:Don Bosco
DESCRIPTION:
URL:https://georgetownsouth.org/event/don-bosco-144/
END:VEVENT
BEGIN:VEVENT
DTSTART;TZID=UTC:20171126T103000
DTEND;TZID=UTC:20171126T103000
DTSTAMP:20260424T142919
CREATED:20170829T130440Z
LAST-MODIFIED:20170829T130440Z
UID:2901-1511692200-1511692200@georgetownsouth.org
SUMMARY:Vida Nueva
DESCRIPTION:
URL:https://georgetownsouth.org/event/vida-nueva-164/
END:VEVENT
BEGIN:VEVENT
DTSTART;TZID=UTC:20171126T080000
DTEND;TZID=UTC:20171126T170000
DTSTAMP:20260424T142919
CREATED:20170829T130401Z
LAST-MODIFIED:20170829T130401Z
UID:2899-1511683200-1511715600@georgetownsouth.org
SUMMARY:New Beginnings
DESCRIPTION:
URL:https://georgetownsouth.org/event/new-beginnings-16/
END:VEVENT
BEGIN:VEVENT
DTSTART;TZID=UTC:20171124T200000
DTEND;TZID=UTC:20171124T200000
DTSTAMP:20260424T142919
CREATED:20170828T190243Z
LAST-MODIFIED:20170828T190243Z
UID:2896-1511553600-1511553600@georgetownsouth.org
SUMMARY:Vida Nueva
DESCRIPTION:
URL:https://georgetownsouth.org/event/vida-nueva-163/
END:VEVENT
BEGIN:VEVENT
DTSTART;TZID=UTC:20171124T080000
DTEND;TZID=UTC:20171124T170000
DTSTAMP:20260424T142919
CREATED:20170828T190157Z
LAST-MODIFIED:20170828T190157Z
UID:2894-1511510400-1511542800@georgetownsouth.org
SUMMARY:Office Closed (Thanksgiving Day)
DESCRIPTION:
URL:https://georgetownsouth.org/event/office-closed-thanksgiving-day/
END:VEVENT
BEGIN:VEVENT
DTSTART;TZID=UTC:20171123T080000
DTEND;TZID=UTC:20171123T170000
DTSTAMP:20260424T142919
CREATED:20170828T182842Z
LAST-MODIFIED:20170828T182842Z
UID:2891-1511424000-1511456400@georgetownsouth.org
SUMMARY:Thanksgiving Day (Office Closed)
DESCRIPTION:
URL:https://georgetownsouth.org/event/thanksgiving-day-office-closed/
END:VEVENT
BEGIN:VEVENT
DTSTART;TZID=UTC:20171122T193000
DTEND;TZID=UTC:20171122T193000
DTSTAMP:20260424T142919
CREATED:20170828T182540Z
LAST-MODIFIED:20170828T182540Z
UID:2889-1511379000-1511379000@georgetownsouth.org
SUMMARY:Chapel Springs ESOL
DESCRIPTION:
URL:https://georgetownsouth.org/event/chapel-springs-esol-66/
END:VEVENT
BEGIN:VEVENT
DTSTART;TZID=UTC:20171121T190000
DTEND;TZID=UTC:20171121T190000
DTSTAMP:20260424T142919
CREATED:20170828T182349Z
LAST-MODIFIED:20170828T182349Z
UID:2887-1511290800-1511290800@georgetownsouth.org
SUMMARY:Girls Group
DESCRIPTION:
URL:https://georgetownsouth.org/event/girls-group-86/
END:VEVENT
BEGIN:VEVENT
DTSTART;TZID=UTC:20171120T193000
DTEND;TZID=UTC:20171120T193000
DTSTAMP:20260424T142919
CREATED:20170828T180856Z
LAST-MODIFIED:20170828T180856Z
UID:2883-1511206200-1511206200@georgetownsouth.org
SUMMARY:Caminando Con El Espiritu
DESCRIPTION:
URL:https://georgetownsouth.org/event/caminando-con-el-espiritu-76/
END:VEVENT
BEGIN:VEVENT
DTSTART;TZID=UTC:20171120T150000
DTEND;TZID=UTC:20171120T150000
DTSTAMP:20260424T142919
CREATED:20170828T180639Z
LAST-MODIFIED:20170828T180639Z
UID:2881-1511190000-1511190000@georgetownsouth.org
SUMMARY:Don Bosco
DESCRIPTION:
URL:https://georgetownsouth.org/event/don-bosco-143/
END:VEVENT
BEGIN:VEVENT
DTSTART;TZID=UTC:20171119T103000
DTEND;TZID=UTC:20171119T103000
DTSTAMP:20260424T142919
CREATED:20170828T180442Z
LAST-MODIFIED:20170828T180442Z
UID:2879-1511087400-1511087400@georgetownsouth.org
SUMMARY:Vida Nueva
DESCRIPTION:
URL:https://georgetownsouth.org/event/vida-nueva-162/
END:VEVENT
BEGIN:VEVENT
DTSTART;TZID=UTC:20171119T080000
DTEND;TZID=UTC:20171119T170000
DTSTAMP:20260424T142919
CREATED:20170828T180005Z
LAST-MODIFIED:20170828T180005Z
UID:2876-1511078400-1511110800@georgetownsouth.org
SUMMARY:New Beginnings
DESCRIPTION:
URL:https://georgetownsouth.org/event/new-beginnings-15/
END:VEVENT
BEGIN:VEVENT
DTSTART;TZID=UTC:20171118T170000
DTEND;TZID=UTC:20171118T170000
DTSTAMP:20260424T142919
CREATED:20170828T175759Z
LAST-MODIFIED:20170828T175759Z
UID:2874-1511024400-1511024400@georgetownsouth.org
SUMMARY:Caminando Con El Espiritu
DESCRIPTION:
URL:https://georgetownsouth.org/event/caminando-con-el-espiritu-75/
END:VEVENT
BEGIN:VEVENT
DTSTART;TZID=UTC:20171117T200000
DTEND;TZID=UTC:20171117T200000
DTSTAMP:20260424T142919
CREATED:20170828T175630Z
LAST-MODIFIED:20170828T175630Z
UID:2872-1510948800-1510948800@georgetownsouth.org
SUMMARY:Nueva Vida
DESCRIPTION:
URL:https://georgetownsouth.org/event/nueva-vida/
END:VEVENT
BEGIN:VEVENT
DTSTART;TZID=UTC:20171117T150000
DTEND;TZID=UTC:20171117T150000
DTSTAMP:20260424T142919
CREATED:20170828T175455Z
LAST-MODIFIED:20170828T175455Z
UID:2870-1510930800-1510930800@georgetownsouth.org
SUMMARY:Don Bosco
DESCRIPTION:
URL:https://georgetownsouth.org/event/don-bosco-142/
END:VEVENT
BEGIN:VEVENT
DTSTART;TZID=UTC:20171116T190000
DTEND;TZID=UTC:20171116T190000
DTSTAMP:20260424T142919
CREATED:20170828T152705Z
LAST-MODIFIED:20170828T152705Z
UID:2864-1510858800-1510858800@georgetownsouth.org
SUMMARY:Shadai DC
DESCRIPTION:
URL:https://georgetownsouth.org/event/shadai-dc-30/
END:VEVENT
BEGIN:VEVENT
DTSTART;TZID=UTC:20171116T190000
DTEND;TZID=UTC:20171116T190000
DTSTAMP:20260424T142919
CREATED:20170828T152351Z
LAST-MODIFIED:20170828T152508Z
UID:2861-1510858800-1510858800@georgetownsouth.org
SUMMARY:Tutoring
DESCRIPTION:
URL:https://georgetownsouth.org/event/tutoring-19/
END:VEVENT
BEGIN:VEVENT
DTSTART;TZID=UTC:20171115T193000
DTEND;TZID=UTC:20171115T193000
DTSTAMP:20260424T142919
CREATED:20170828T140018Z
LAST-MODIFIED:20170828T140018Z
UID:2855-1510774200-1510774200@georgetownsouth.org
SUMMARY:Chapel Springs ESOL
DESCRIPTION:
URL:https://georgetownsouth.org/event/chapel-springs-esol-65/
END:VEVENT
BEGIN:VEVENT
DTSTART;TZID=UTC:20171115T150000
DTEND;TZID=UTC:20171115T150000
DTSTAMP:20260424T142919
CREATED:20170828T135922Z
LAST-MODIFIED:20170828T135922Z
UID:2853-1510758000-1510758000@georgetownsouth.org
SUMMARY:Don Bosco
DESCRIPTION:
URL:https://georgetownsouth.org/event/don-bosco-141/
END:VEVENT
BEGIN:VEVENT
DTSTART;TZID=UTC:20171114T190000
DTEND;TZID=UTC:20171114T190000
DTSTAMP:20260424T142919
CREATED:20170828T153451Z
LAST-MODIFIED:20170828T153504Z
UID:2868-1510686000-1510686000@georgetownsouth.org
SUMMARY:Girls Group
DESCRIPTION:
URL:https://georgetownsouth.org/event/girls-group-85/
END:VEVENT
BEGIN:VEVENT
DTSTART;TZID=UTC:20171114T173000
DTEND;TZID=UTC:20171114T173000
DTSTAMP:20260424T142919
CREATED:20170828T153410Z
LAST-MODIFIED:20170828T153410Z
UID:2866-1510680600-1510680600@georgetownsouth.org
SUMMARY:Tutoring
DESCRIPTION:
URL:https://georgetownsouth.org/event/tutoring-17/
END:VEVENT
BEGIN:VEVENT
DTSTART;TZID=UTC:20171113T193000
DTEND;TZID=UTC:20171113T193000
DTSTAMP:20260424T142919
CREATED:20170825T203145Z
LAST-MODIFIED:20170825T203145Z
UID:2848-1510601400-1510601400@georgetownsouth.org
SUMMARY:Caminando Con El Espiritu Santo
DESCRIPTION:
URL:https://georgetownsouth.org/event/caminando-con-el-espiritu-santo-3/
END:VEVENT
BEGIN:VEVENT
DTSTART;TZID=UTC:20171113T150000
DTEND;TZID=UTC:20171113T150000
DTSTAMP:20260424T142919
CREATED:20170825T202400Z
LAST-MODIFIED:20170825T202400Z
UID:2846-1510585200-1510585200@georgetownsouth.org
SUMMARY:Don Bosco
DESCRIPTION:
URL:https://georgetownsouth.org/event/don-bosco-140/
END:VEVENT
BEGIN:VEVENT
DTSTART;TZID=UTC:20171112T103000
DTEND;TZID=UTC:20171112T103000
DTSTAMP:20260424T142919
CREATED:20170825T201119Z
LAST-MODIFIED:20170825T201119Z
UID:2844-1510482600-1510482600@georgetownsouth.org
SUMMARY:Vida Nueva
DESCRIPTION:
URL:https://georgetownsouth.org/event/vida-nueva-161/
END:VEVENT
BEGIN:VEVENT
DTSTART;TZID=UTC:20171112T080000
DTEND;TZID=UTC:20171112T170000
DTSTAMP:20260424T142919
CREATED:20170825T195843Z
LAST-MODIFIED:20170825T195843Z
UID:2842-1510473600-1510506000@georgetownsouth.org
SUMMARY:New Beginnings
DESCRIPTION:
URL:https://georgetownsouth.org/event/new-beginnings-14/
END:VEVENT
BEGIN:VEVENT
DTSTART;TZID=UTC:20171110T150000
DTEND;TZID=UTC:20171110T150000
DTSTAMP:20260424T142919
CREATED:20170825T181838Z
LAST-MODIFIED:20170825T181838Z
UID:2836-1510326000-1510326000@georgetownsouth.org
SUMMARY:Don Bosco
DESCRIPTION:
URL:https://georgetownsouth.org/event/don-bosco-139/
END:VEVENT
BEGIN:VEVENT
DTSTART;TZID=UTC:20171110T080000
DTEND;TZID=UTC:20171110T200000
DTSTAMP:20260424T142919
CREATED:20170825T181916Z
LAST-MODIFIED:20170828T183017Z
UID:2838-1510300800-1510344000@georgetownsouth.org
SUMMARY:Veterans Day (Office Closed)
DESCRIPTION:
URL:https://georgetownsouth.org/event/vida-nueva-160/
END:VEVENT
BEGIN:VEVENT
DTSTART;TZID=UTC:20171109T190000
DTEND;TZID=UTC:20171109T190000
DTSTAMP:20260424T142919
CREATED:20170825T181122Z
LAST-MODIFIED:20170825T181122Z
UID:2834-1510254000-1510254000@georgetownsouth.org
SUMMARY:Shadai DC
DESCRIPTION:
URL:https://georgetownsouth.org/event/shadai-dc-29/
END:VEVENT
END:VCALENDAR