BEGIN:VCALENDAR
VERSION:2.0
PRODID:-//Georgetown South - ECPv6.15.20//NONSGML v1.0//EN
CALSCALE:GREGORIAN
METHOD:PUBLISH
X-WR-CALNAME:Georgetown South
X-ORIGINAL-URL:https://georgetownsouth.org
X-WR-CALDESC:Events for Georgetown South
REFRESH-INTERVAL;VALUE=DURATION:PT1H
X-Robots-Tag:noindex
X-PUBLISHED-TTL:PT1H
BEGIN:VTIMEZONE
TZID:UTC
BEGIN:STANDARD
TZOFFSETFROM:+0000
TZOFFSETTO:+0000
TZNAME:UTC
DTSTART:20210101T000000
END:STANDARD
END:VTIMEZONE
BEGIN:VEVENT
DTSTART;TZID=UTC:20220510T180000
DTEND;TZID=UTC:20220510T200000
DTSTAMP:20260422T220755
CREATED:20220311T190138Z
LAST-MODIFIED:20220311T190138Z
UID:5589-1652205600-1652212800@georgetownsouth.org
SUMMARY:Board Meeting
DESCRIPTION:
URL:https://georgetownsouth.org/event/board-meeting-10/
END:VEVENT
BEGIN:VEVENT
DTSTART;TZID=UTC:20220512T130000
DTEND;TZID=UTC:20220512T160000
DTSTAMP:20260422T220755
CREATED:20220207T162220Z
LAST-MODIFIED:20220207T162220Z
UID:5447-1652360400-1652371200@georgetownsouth.org
SUMMARY:Mobile Market - Mercado Movil
DESCRIPTION:Fresh vegetables will be given at 1:00pm\, vegetales frescos serán distribuidos a la 1:00 pm.
URL:https://georgetownsouth.org/event/mobile-market-mercado-movil-6/
END:VEVENT
BEGIN:VEVENT
DTSTART;TZID=UTC:20220525T180000
DTEND;TZID=UTC:20220525T200000
DTSTAMP:20260422T220755
CREATED:20220520T184756Z
LAST-MODIFIED:20220520T184756Z
UID:6001-1653501600-1653508800@georgetownsouth.org
SUMMARY:Parking meeting/Reunión de estacionamiento
DESCRIPTION:
URL:https://georgetownsouth.org/event/parking-meeting-reunion-de-estacionamiento/
END:VEVENT
BEGIN:VEVENT
DTSTART;TZID=UTC:20220526T130000
DTEND;TZID=UTC:20220526T160000
DTSTAMP:20260422T220755
CREATED:20220207T162513Z
LAST-MODIFIED:20220207T162513Z
UID:5449-1653570000-1653580800@georgetownsouth.org
SUMMARY:Mobile Market - Mercado Movil
DESCRIPTION:Fresh vegetables will be given at 1:00pm\, vegetales frescos serán distribuidos a la 1:00 pm.
URL:https://georgetownsouth.org/event/mobile-market-mercado-movil-7/
END:VEVENT
BEGIN:VEVENT
DTSTART;VALUE=DATE:20220530
DTEND;VALUE=DATE:20220531
DTSTAMP:20260422T220755
CREATED:20220527T142209Z
LAST-MODIFIED:20220527T142209Z
UID:6015-1653868800-1653955199@georgetownsouth.org
SUMMARY:Office Closed for Memorial Day
DESCRIPTION:
URL:https://georgetownsouth.org/event/office-closed-for-memorial-day/
END:VEVENT
BEGIN:VEVENT
DTSTART;TZID=UTC:20220607T163000
DTEND;TZID=UTC:20220607T180000
DTSTAMP:20260422T220755
CREATED:20220207T163923Z
LAST-MODIFIED:20220207T163923Z
UID:5468-1654619400-1654624800@georgetownsouth.org
SUMMARY:Badges for Baseball end of season
DESCRIPTION:
URL:https://georgetownsouth.org/event/badges-for-baseball-end-of-season/
END:VEVENT
BEGIN:VEVENT
DTSTART;TZID=UTC:20220609T130000
DTEND;TZID=UTC:20220609T160000
DTSTAMP:20260422T220755
CREATED:20220207T162647Z
LAST-MODIFIED:20220207T162647Z
UID:5451-1654779600-1654790400@georgetownsouth.org
SUMMARY:Mobile Market - Mercado Movil
DESCRIPTION:Fresh vegetables will be given at 1:00pm\, vegetales frescos serán distribuidos a la 1:00 pm.
URL:https://georgetownsouth.org/event/mobile-market-mercado-movil-8/
END:VEVENT
BEGIN:VEVENT
DTSTART;TZID=UTC:20220614T180000
DTEND;TZID=UTC:20220614T200000
DTSTAMP:20260422T220755
CREATED:20220311T190216Z
LAST-MODIFIED:20220311T190216Z
UID:5591-1655229600-1655236800@georgetownsouth.org
SUMMARY:Board Meeting
DESCRIPTION:
URL:https://georgetownsouth.org/event/board-meeting-11/
END:VEVENT
BEGIN:VEVENT
DTSTART;TZID=UTC:20220623T130000
DTEND;TZID=UTC:20220623T160000
DTSTAMP:20260422T220755
CREATED:20220207T162751Z
LAST-MODIFIED:20220207T162751Z
UID:5453-1655989200-1656000000@georgetownsouth.org
SUMMARY:Mobile Market - Mercado Movil
DESCRIPTION:Fresh vegetables will be given at 1:00pm\, vegetales frescos serán distribuidos a la 1:00 pm.
URL:https://georgetownsouth.org/event/mobile-market-mercado-movil-9/
END:VEVENT
BEGIN:VEVENT
DTSTART;TZID=UTC:20220712T180000
DTEND;TZID=UTC:20220712T200000
DTSTAMP:20260422T220755
CREATED:20220311T190245Z
LAST-MODIFIED:20220311T190245Z
UID:5593-1657648800-1657656000@georgetownsouth.org
SUMMARY:Board Meeting
DESCRIPTION:
URL:https://georgetownsouth.org/event/board-meeting-12/
END:VEVENT
BEGIN:VEVENT
DTSTART;TZID=UTC:20220714T130000
DTEND;TZID=UTC:20220714T160000
DTSTAMP:20260422T220755
CREATED:20220207T162851Z
LAST-MODIFIED:20220207T162851Z
UID:5455-1657803600-1657814400@georgetownsouth.org
SUMMARY:Mobile Market - Mercado Movil
DESCRIPTION:Fresh vegetables will be given at 1:00pm\, vegetales frescos serán distribuidos a la 1:00 pm.
URL:https://georgetownsouth.org/event/mobile-market-mercado-movil-10/
END:VEVENT
BEGIN:VEVENT
DTSTART;TZID=UTC:20220728T130000
DTEND;TZID=UTC:20220728T160000
DTSTAMP:20260422T220755
CREATED:20220207T162940Z
LAST-MODIFIED:20220207T162940Z
UID:5457-1659013200-1659024000@georgetownsouth.org
SUMMARY:Mobile Market - Mercado Móvil
DESCRIPTION:Fresh vegetables will be given at 1:00pm\, vegetales frescos serán distribuidos a la 1:00 pm.
URL:https://georgetownsouth.org/event/mobile-market-mercado-movil-11/
END:VEVENT
BEGIN:VEVENT
DTSTART;TZID=UTC:20220809T180000
DTEND;TZID=UTC:20220809T200000
DTSTAMP:20260422T220755
CREATED:20220311T190324Z
LAST-MODIFIED:20220311T190324Z
UID:5595-1660068000-1660075200@georgetownsouth.org
SUMMARY:Board Meeting
DESCRIPTION:
URL:https://georgetownsouth.org/event/board-meeting-13/
END:VEVENT
BEGIN:VEVENT
DTSTART;TZID=UTC:20220913T180000
DTEND;TZID=UTC:20220913T200000
DTSTAMP:20260422T220755
CREATED:20220311T190355Z
LAST-MODIFIED:20220311T190355Z
UID:5597-1663092000-1663099200@georgetownsouth.org
SUMMARY:Board Meeting
DESCRIPTION:
URL:https://georgetownsouth.org/event/board-meeting-14/
END:VEVENT
BEGIN:VEVENT
DTSTART;TZID=UTC:20221011T180000
DTEND;TZID=UTC:20221011T200000
DTSTAMP:20260422T220755
CREATED:20220311T190432Z
LAST-MODIFIED:20220311T190432Z
UID:5599-1665511200-1665518400@georgetownsouth.org
SUMMARY:Board Meeting
DESCRIPTION:
URL:https://georgetownsouth.org/event/board-meeting-15/
END:VEVENT
BEGIN:VEVENT
DTSTART;TZID=UTC:20221108T180000
DTEND;TZID=UTC:20221108T200000
DTSTAMP:20260422T220755
CREATED:20220311T190628Z
LAST-MODIFIED:20220311T190628Z
UID:5601-1667930400-1667937600@georgetownsouth.org
SUMMARY:Board Meeting
DESCRIPTION:
URL:https://georgetownsouth.org/event/board-meeting-16/
END:VEVENT
BEGIN:VEVENT
DTSTART;TZID=UTC:20221213T180000
DTEND;TZID=UTC:20221213T200000
DTSTAMP:20260422T220755
CREATED:20220311T190659Z
LAST-MODIFIED:20220311T190659Z
UID:5603-1670954400-1670961600@georgetownsouth.org
SUMMARY:Board Meeting
DESCRIPTION:
URL:https://georgetownsouth.org/event/board-meeting-17/
END:VEVENT
BEGIN:VEVENT
DTSTART;TZID=UTC:20240207T173000
DTEND;TZID=UTC:20240207T190000
DTSTAMP:20260422T220755
CREATED:20240131T212109Z
LAST-MODIFIED:20240131T212251Z
UID:6561-1707327000-1707332400@georgetownsouth.org
SUMMARY:Domestic Violence Workshop - Taller de Violencia Domestica
DESCRIPTION:
URL:https://georgetownsouth.org/event/domestic-violence-workshop/
END:VEVENT
BEGIN:VEVENT
DTSTART;TZID=UTC:20240208T140000
DTEND;TZID=UTC:20240208T150000
DTSTAMP:20260422T220755
CREATED:20240131T212010Z
LAST-MODIFIED:20240131T212336Z
UID:6559-1707400800-1707404400@georgetownsouth.org
SUMMARY:Mobile Market - Mercado Mobil
DESCRIPTION:
URL:https://georgetownsouth.org/event/mobile-market-12/
END:VEVENT
BEGIN:VEVENT
DTSTART;TZID=UTC:20240213T180000
DTEND;TZID=UTC:20240213T200000
DTSTAMP:20260422T220755
CREATED:20240131T212730Z
LAST-MODIFIED:20240131T212730Z
UID:6565-1707847200-1707854400@georgetownsouth.org
SUMMARY:Diabetes Research  Project Meeting (Future Kings) - Reunión del proyecto de investigación sobre diabetes
DESCRIPTION:
URL:https://georgetownsouth.org/event/diabetes-research-project-meeting-future-kings-reunion-del-proyecto-de-investigacion-sobre-diabetes/
END:VEVENT
BEGIN:VEVENT
DTSTART;TZID=UTC:20240221T120000
DTEND;TZID=UTC:20240221T140000
DTSTAMP:20260422T220755
CREATED:20240131T213808Z
LAST-MODIFIED:20240131T213808Z
UID:6569-1708516800-1708524000@georgetownsouth.org
SUMMARY:Women Empowerment Workshop - Taller de Empoderamiento de la Mujer
DESCRIPTION:
URL:https://georgetownsouth.org/event/women-empowerment-workshop-taller-de-empoderamiento-de-la-mujer/
END:VEVENT
BEGIN:VEVENT
DTSTART;TZID=UTC:20240221T173000
DTEND;TZID=UTC:20240221T190000
DTSTAMP:20260422T220755
CREATED:20240131T213929Z
LAST-MODIFIED:20240131T213929Z
UID:6571-1708536600-1708542000@georgetownsouth.org
SUMMARY:Police Response to Domestic Violence Workshop - Taller sobre respuesta policial a la violencia doméstica
DESCRIPTION:
URL:https://georgetownsouth.org/event/police-response-to-domestic-violence-workshop-taller-sobre-respuesta-policial-a-la-violencia-domestica/
END:VEVENT
BEGIN:VEVENT
DTSTART;TZID=UTC:20240222T140000
DTEND;TZID=UTC:20240222T153000
DTSTAMP:20260422T220755
CREATED:20240131T213305Z
LAST-MODIFIED:20240131T213305Z
UID:6567-1708610400-1708615800@georgetownsouth.org
SUMMARY:Mobil Market - Mercado Mobil
DESCRIPTION:
URL:https://georgetownsouth.org/event/mobil-market-mercado-mobil/
END:VEVENT
BEGIN:VEVENT
DTSTART;TZID=UTC:20240228T173000
DTEND;TZID=UTC:20240228T190000
DTSTAMP:20260422T220755
CREATED:20240131T215555Z
LAST-MODIFIED:20240131T215555Z
UID:6573-1709141400-1709146800@georgetownsouth.org
SUMMARY:Immigration Attorney presents the legal implications of Domestic Violence - Abogada de Inmigración presenta las implicaciones legales de la Violencia Doméstica
DESCRIPTION:
URL:https://georgetownsouth.org/event/immigration-attorney-presents-the-legal-implications-of-domestic-violence-abogada-de-inmigracion-presenta-las-implicaciones-legales-de-la-violencia-domestica/
END:VEVENT
BEGIN:VEVENT
DTSTART;TZID=UTC:20240306T120000
DTEND;TZID=UTC:20240306T130000
DTSTAMP:20260422T220755
CREATED:20240201T143253Z
LAST-MODIFIED:20240201T143253Z
UID:6575-1709726400-1709730000@georgetownsouth.org
SUMMARY:Women Empowerment Workshop - Taller de Empoderamiento de la Mujer
DESCRIPTION:
URL:https://georgetownsouth.org/event/women-empowerment-workshop-taller-de-empoderamiento-de-la-mujer-2/
END:VEVENT
BEGIN:VEVENT
DTSTART;TZID=UTC:20240306T173000
DTEND;TZID=UTC:20240306T190000
DTSTAMP:20260422T220755
CREATED:20240201T144809Z
LAST-MODIFIED:20240201T144809Z
UID:6577-1709746200-1709751600@georgetownsouth.org
SUMMARY:Prince William Community *Domestic Violence - Prince William Community * Violencia doméstica
DESCRIPTION:
URL:https://georgetownsouth.org/event/prince-william-community-domestic-violence-prince-william-community-violencia-domestica/
END:VEVENT
BEGIN:VEVENT
DTSTART;TZID=UTC:20240312T180000
DTEND;TZID=UTC:20240312T200000
DTSTAMP:20260422T220755
CREATED:20240131T205900Z
LAST-MODIFIED:20240201T152844Z
UID:6535-1710266400-1710273600@georgetownsouth.org
SUMMARY:Annual Meeting - Reunion Anual
DESCRIPTION:
URL:https://georgetownsouth.org/event/annual-meeting-4/
END:VEVENT
BEGIN:VEVENT
DTSTART;TZID=UTC:20240313T170000
DTEND;TZID=UTC:20240313T190000
DTSTAMP:20260422T220755
CREATED:20240201T145525Z
LAST-MODIFIED:20240201T145525Z
UID:6579-1710349200-1710356400@georgetownsouth.org
SUMMARY:The Premier Martial Arts Workshop on self defense -  Taller de Premier Martial arts sobre defensa personal
DESCRIPTION:
URL:https://georgetownsouth.org/event/the-premier-martial-arts-workshop-on-self-defense-taller-de-premier-martial-arts-sobre-defensa-personal/
END:VEVENT
BEGIN:VEVENT
DTSTART;TZID=UTC:20240314T133000
DTEND;TZID=UTC:20240314T150000
DTSTAMP:20260422T220755
CREATED:20240201T150159Z
LAST-MODIFIED:20240201T150159Z
UID:6586-1710423000-1710428400@georgetownsouth.org
SUMMARY:Mobile Market - Mercado Mobil
DESCRIPTION:
URL:https://georgetownsouth.org/event/mobile-market-mercado-mobil-2/
END:VEVENT
BEGIN:VEVENT
DTSTART;TZID=UTC:20240320T120000
DTEND;TZID=UTC:20240320T140000
DTSTAMP:20260422T220755
CREATED:20240201T145848Z
LAST-MODIFIED:20240201T145848Z
UID:6582-1710936000-1710943200@georgetownsouth.org
SUMMARY:Women Empowerment Workshop – Taller de Empoderamiento de la Mujer
DESCRIPTION:
URL:https://georgetownsouth.org/event/women-empowerment-workshop-taller-de-empoderamiento-de-la-mujer-3/
END:VEVENT
END:VCALENDAR