BEGIN:VCALENDAR
VERSION:2.0
PRODID:-//Georgetown South - ECPv6.15.20//NONSGML v1.0//EN
CALSCALE:GREGORIAN
METHOD:PUBLISH
X-WR-CALNAME:Georgetown South
X-ORIGINAL-URL:https://georgetownsouth.org
X-WR-CALDESC:Events for Georgetown South
REFRESH-INTERVAL;VALUE=DURATION:PT1H
X-Robots-Tag:noindex
X-PUBLISHED-TTL:PT1H
BEGIN:VTIMEZONE
TZID:UTC
BEGIN:STANDARD
TZOFFSETFROM:+0000
TZOFFSETTO:+0000
TZNAME:UTC
DTSTART:20180101T000000
END:STANDARD
END:VTIMEZONE
BEGIN:VEVENT
DTSTART;VALUE=DATE:20210705
DTEND;VALUE=DATE:20210706
DTSTAMP:20260425T153552
CREATED:20210622T200040Z
LAST-MODIFIED:20210622T200040Z
UID:5105-1625443200-1625529599@georgetownsouth.org
SUMMARY:Office Closed (Holiday)
DESCRIPTION:
URL:https://georgetownsouth.org/event/office-closed-holiday-2/
END:VEVENT
BEGIN:VEVENT
DTSTART;VALUE=DATE:20210702
DTEND;VALUE=DATE:20210703
DTSTAMP:20260425T153552
CREATED:20210622T195953Z
LAST-MODIFIED:20210622T195953Z
UID:5103-1625184000-1625270399@georgetownsouth.org
SUMMARY:Office Closed (Holiday)
DESCRIPTION:
URL:https://georgetownsouth.org/event/office-closed-holiday/
END:VEVENT
BEGIN:VEVENT
DTSTART;TZID=UTC:20210625T140000
DTEND;TZID=UTC:20210625T160000
DTSTAMP:20260425T153552
CREATED:20210622T195611Z
LAST-MODIFIED:20210622T200350Z
UID:5097-1624629600-1624636800@georgetownsouth.org
SUMMARY:Mobile Market
DESCRIPTION:
URL:https://georgetownsouth.org/event/mobile-market-3/
LOCATION:GTS Community Center
END:VEVENT
BEGIN:VEVENT
DTSTART;TZID=UTC:20210528T140000
DTEND;TZID=UTC:20210528T163000
DTSTAMP:20260425T153552
CREATED:20210506T154738Z
LAST-MODIFIED:20210506T155321Z
UID:4971-1622210400-1622219400@georgetownsouth.org
SUMMARY:Food Distribution/Distribucion de comida
DESCRIPTION:
URL:https://georgetownsouth.org/event/food-distribution-distribucion-de-comida-16/
LOCATION:GTS Community Center
END:VEVENT
BEGIN:VEVENT
DTSTART;TZID=UTC:20210521T140000
DTEND;TZID=UTC:20210521T163000
DTSTAMP:20260425T153552
CREATED:20210506T154313Z
LAST-MODIFIED:20210506T154348Z
UID:4965-1621605600-1621614600@georgetownsouth.org
SUMMARY:Food Distribution/Distribucion de comida
DESCRIPTION:
URL:https://georgetownsouth.org/event/food-distribution-distribucion-de-comida-13/
END:VEVENT
BEGIN:VEVENT
DTSTART;TZID=UTC:20210514T140000
DTEND;TZID=UTC:20210514T163000
DTSTAMP:20260425T153552
CREATED:20210506T154532Z
LAST-MODIFIED:20210506T154532Z
UID:4969-1621000800-1621009800@georgetownsouth.org
SUMMARY:Food Distribution/Distribucion de comida
DESCRIPTION:
URL:https://georgetownsouth.org/event/food-distribution-distribucion-de-comida-15/
LOCATION:GTS Community Center
END:VEVENT
BEGIN:VEVENT
DTSTART;TZID=UTC:20210507T140000
DTEND;TZID=UTC:20210507T163000
DTSTAMP:20260425T153552
CREATED:20210506T154500Z
LAST-MODIFIED:20210506T154500Z
UID:4967-1620396000-1620405000@georgetownsouth.org
SUMMARY:Food Distribution/Distribucion de comida
DESCRIPTION:
URL:https://georgetownsouth.org/event/food-distribution-distribucion-de-comida-14/
END:VEVENT
BEGIN:VEVENT
DTSTART;TZID=UTC:20210501T080000
DTEND;TZID=UTC:20210501T160000
DTSTAMP:20260425T153552
CREATED:20210318T163523Z
LAST-MODIFIED:20210318T163523Z
UID:4883-1619856000-1619884800@georgetownsouth.org
SUMMARY:Community Clean Up/ Limpieza Comunitaria
DESCRIPTION:
URL:https://georgetownsouth.org/event/community-clean-up-limpieza-comunitaria/
LOCATION:GTS Community Center
END:VEVENT
BEGIN:VEVENT
DTSTART;TZID=UTC:20210430T140000
DTEND;TZID=UTC:20210430T163000
DTSTAMP:20260425T153552
CREATED:20210318T153412Z
LAST-MODIFIED:20210318T153412Z
UID:4832-1619791200-1619800200@georgetownsouth.org
SUMMARY:Food Distribution/ Distribucion de Comida
DESCRIPTION:
URL:https://georgetownsouth.org/event/food-distribution-distribucion-de-comida-12/
LOCATION:GTS Community Center
END:VEVENT
BEGIN:VEVENT
DTSTART;TZID=UTC:20210427T140000
DTEND;TZID=UTC:20210427T163000
DTSTAMP:20260425T153552
CREATED:20210318T153345Z
LAST-MODIFIED:20210318T153345Z
UID:4830-1619532000-1619541000@georgetownsouth.org
SUMMARY:Food Distribution/ Distribucion de Comida
DESCRIPTION:
URL:https://georgetownsouth.org/event/food-distribution-distribucion-de-comida-11/
LOCATION:GTS Community Center
END:VEVENT
BEGIN:VEVENT
DTSTART;TZID=UTC:20210420T140000
DTEND;TZID=UTC:20210420T163000
DTSTAMP:20260425T153552
CREATED:20210318T153105Z
LAST-MODIFIED:20210318T153105Z
UID:4827-1618927200-1618936200@georgetownsouth.org
SUMMARY:Food Distribution/ Distribucion de Comida
DESCRIPTION:
URL:https://georgetownsouth.org/event/food-distribution-distribucion-de-comida-10/
LOCATION:GTS Community Center
END:VEVENT
BEGIN:VEVENT
DTSTART;TZID=UTC:20210416T140000
DTEND;TZID=UTC:20210416T163000
DTSTAMP:20260425T153552
CREATED:20210318T153032Z
LAST-MODIFIED:20210318T153032Z
UID:4825-1618581600-1618590600@georgetownsouth.org
SUMMARY:Food Distribution/ Distribucion de Comida
DESCRIPTION:
URL:https://georgetownsouth.org/event/food-distribution-distribucion-de-comida-9/
LOCATION:GTS Community Center
END:VEVENT
BEGIN:VEVENT
DTSTART;TZID=UTC:20210413T140000
DTEND;TZID=UTC:20210413T163000
DTSTAMP:20260425T153552
CREATED:20210318T152411Z
LAST-MODIFIED:20210318T152411Z
UID:4823-1618322400-1618331400@georgetownsouth.org
SUMMARY:Food Distribution/ Distribucion de Comida
DESCRIPTION:
URL:https://georgetownsouth.org/event/food-distribution-distribucion-de-comida-8/
END:VEVENT
BEGIN:VEVENT
DTSTART;TZID=UTC:20210409T140000
DTEND;TZID=UTC:20210409T163000
DTSTAMP:20260425T153552
CREATED:20210318T152207Z
LAST-MODIFIED:20210318T152207Z
UID:4821-1617976800-1617985800@georgetownsouth.org
SUMMARY:Food Distribution/ Distribucion de Comida
DESCRIPTION:
URL:https://georgetownsouth.org/event/food-distribution-distribucion-de-comida-7/
LOCATION:GTS Community Center
END:VEVENT
BEGIN:VEVENT
DTSTART;TZID=UTC:20210406T140000
DTEND;TZID=UTC:20210406T163000
DTSTAMP:20260425T153552
CREATED:20210318T152137Z
LAST-MODIFIED:20210318T152137Z
UID:4819-1617717600-1617726600@georgetownsouth.org
SUMMARY:Food Distribution/ Distribucion de Comida
DESCRIPTION:
URL:https://georgetownsouth.org/event/food-distribution-distribucion-de-comida-6/
LOCATION:GTS Community Center
END:VEVENT
BEGIN:VEVENT
DTSTART;TZID=UTC:20210402T140000
DTEND;TZID=UTC:20210402T163000
DTSTAMP:20260425T153552
CREATED:20210318T152049Z
LAST-MODIFIED:20210318T152049Z
UID:4816-1617372000-1617381000@georgetownsouth.org
SUMMARY:Food Distribution/ Distribucion de Comida
DESCRIPTION:
URL:https://georgetownsouth.org/event/food-distribution-distribucion-de-comida-5/
LOCATION:GTS Community Center
END:VEVENT
BEGIN:VEVENT
DTSTART;TZID=UTC:20210330T140000
DTEND;TZID=UTC:20210330T163000
DTSTAMP:20260425T153552
CREATED:20210318T151935Z
LAST-MODIFIED:20210318T151935Z
UID:4814-1617112800-1617121800@georgetownsouth.org
SUMMARY:Food Distribution/ Distribucion de Comida
DESCRIPTION:
URL:https://georgetownsouth.org/event/food-distribution-distribucion-de-comida-4/
LOCATION:GTS Community Center
END:VEVENT
BEGIN:VEVENT
DTSTART;TZID=UTC:20210326T140000
DTEND;TZID=UTC:20210326T163000
DTSTAMP:20260425T153552
CREATED:20210318T151826Z
LAST-MODIFIED:20210318T151826Z
UID:4812-1616767200-1616776200@georgetownsouth.org
SUMMARY:Food Distribution/ Distribucion de Comida
DESCRIPTION:
URL:https://georgetownsouth.org/event/food-distribution-distribucion-de-comida-3/
LOCATION:GTS Community Center
END:VEVENT
BEGIN:VEVENT
DTSTART;TZID=UTC:20210323T140000
DTEND;TZID=UTC:20210323T163000
DTSTAMP:20260425T153552
CREATED:20210318T151743Z
LAST-MODIFIED:20210318T151743Z
UID:4810-1616508000-1616517000@georgetownsouth.org
SUMMARY:Food Distribution/ Distribucion de Comida
DESCRIPTION:
URL:https://georgetownsouth.org/event/food-distribution-distribucion-de-comida-2/
LOCATION:GTS Community Center
END:VEVENT
BEGIN:VEVENT
DTSTART;TZID=UTC:20210319T140000
DTEND;TZID=UTC:20210319T163000
DTSTAMP:20260425T153552
CREATED:20210318T150857Z
LAST-MODIFIED:20210318T150913Z
UID:4808-1616162400-1616171400@georgetownsouth.org
SUMMARY:Food Distribution/ Distribucion de Comida
DESCRIPTION:
URL:https://georgetownsouth.org/event/food-distribution-distribucion-de-comida/
END:VEVENT
BEGIN:VEVENT
DTSTART;TZID=UTC:20201013T180000
DTEND;TZID=UTC:20201013T200000
DTSTAMP:20260425T153552
CREATED:20200929T152510Z
LAST-MODIFIED:20200929T154230Z
UID:4492-1602612000-1602619200@georgetownsouth.org
SUMMARY:Monthly Board Meeting
DESCRIPTION:Meg Carroll is inviting you to a scheduled Zoom meeting. \n  \nTopic: Monthly Board Meeting of the Georgetown South Community Council Board of Trustees \nTime: Oct 13\, 2020 06:00 PM Eastern Time (US and Canada) \nEvery month on the Second Tue\, until Feb 9\, 2021\, 5 occurrence(s) \nOct 13\, 2020 06:00 PM \nNov 10\, 2020 06:00 PM \nDec 8\, 2020 06:00 PM \nJan 12\, 2021 06:00 PM \nFeb 9\, 2021 06:00 PM \nPlease download and import the following iCalendar (.ics) files to your calendar system. \nMonthly: https://us02web.zoom.us/meeting/tZYpd-ipqzwjG9Z5jskts3Og9Njg1acCT1FP/ics?icsToken=98tyKuGqqjsrG9GSuRiFRpwQBoigd-vwmGZEjfpnyRX2CDRAMSzxb8xINeN-E_vk \n  \nJoin Zoom Meeting \nhttps://us02web.zoom.us/j/82401157912?pwd=MTRWNmVwNWwza2txTWg3MzJCUTY5dz09 \n  \nMeeting ID: 824 0115 7912 \nPasscode: 694405 \nOne tap mobile \n+19292056099\,\,82401157912#\,\,\,\,\,\,0#\,\,694405# US (New York) \n+13017158592\,\,82401157912#\,\,\,\,\,\,0#\,\,694405# US (Germantown) \n  \nDial by your location \n+1 929 205 6099 US (New York) \n+1 301 715 8592 US (Germantown) \n+1 312 626 6799 US (Chicago) \n+1 669 900 6833 US (San Jose) \n+1 253 215 8782 US (Tacoma) \n+1 346 248 7799 US (Houston) \nMeeting ID: 824 0115 7912 \nPasscode: 694405 \nFind your local number: https://us02web.zoom.us/u/kzOZo1t8H \n 
URL:https://georgetownsouth.org/event/monthly-board-meeting/
END:VEVENT
BEGIN:VEVENT
DTSTART;TZID=UTC:20200310T190000
DTEND;TZID=UTC:20200310T210000
DTSTAMP:20260425T153552
CREATED:20200130T194847Z
LAST-MODIFIED:20200130T194847Z
UID:4049-1583866800-1583874000@georgetownsouth.org
SUMMARY:Annual Meeting
DESCRIPTION:
URL:https://georgetownsouth.org/event/annual-meeting-3/
END:VEVENT
BEGIN:VEVENT
DTSTART;TZID=UTC:20200306T180000
DTEND;TZID=UTC:20200306T200000
DTSTAMP:20260425T153552
CREATED:20200130T191628Z
LAST-MODIFIED:20200130T194504Z
UID:4033-1583517600-1583524800@georgetownsouth.org
SUMMARY:Friday Fun Night
DESCRIPTION:
URL:https://georgetownsouth.org/event/friday-fun-night/
END:VEVENT
BEGIN:VEVENT
DTSTART;TZID=UTC:20200226T180000
DTEND;TZID=UTC:20200226T190000
DTSTAMP:20260425T153552
CREATED:20200130T200911Z
LAST-MODIFIED:20200131T180353Z
UID:4051-1582740000-1582743600@georgetownsouth.org
SUMMARY:Pre-k Information Night
DESCRIPTION:
URL:https://georgetownsouth.org/event/pre-k-workshop/
END:VEVENT
BEGIN:VEVENT
DTSTART;TZID=UTC:20200214T170000
DTEND;TZID=UTC:20200214T190000
DTSTAMP:20260425T153552
CREATED:20200205T192733Z
LAST-MODIFIED:20200205T192733Z
UID:4070-1581699600-1581706800@georgetownsouth.org
SUMMARY:Art Contest
DESCRIPTION:
URL:https://georgetownsouth.org/event/art-contest/
END:VEVENT
BEGIN:VEVENT
DTSTART;TZID=UTC:20200207T180000
DTEND;TZID=UTC:20200207T200000
DTSTAMP:20260425T153552
CREATED:20200130T194639Z
LAST-MODIFIED:20200130T194639Z
UID:4045-1581098400-1581105600@georgetownsouth.org
SUMMARY:Friday Fun Night
DESCRIPTION:
URL:https://georgetownsouth.org/event/friday-fun-night-2/
END:VEVENT
BEGIN:VEVENT
DTSTART;TZID=UTC:20200130T083000
DTEND;TZID=UTC:20200225T170000
DTSTAMP:20260425T153552
CREATED:20200130T194815Z
LAST-MODIFIED:20200206T162541Z
UID:4047-1580373000-1582650000@georgetownsouth.org
SUMMARY:Girls on The Run Registrations
DESCRIPTION:This program is for girls in 3rd grade to 8th grade!\nis not just about running!! \nEste programa es para niñas de 3 ° a 8 ° grado!\nno se trata solo de correr !!
URL:https://georgetownsouth.org/event/girls-on-the-run-registrations/
END:VEVENT
BEGIN:VEVENT
DTSTART;TZID=UTC:20190725T160000
DTEND;TZID=UTC:20190725T180000
DTSTAMP:20260425T153552
CREATED:20190716T205740Z
LAST-MODIFIED:20190716T205740Z
UID:3847-1564070400-1564077600@georgetownsouth.org
SUMMARY:Math Camp
DESCRIPTION:
URL:https://georgetownsouth.org/event/math-camp/
LOCATION:GTS Community Center
END:VEVENT
BEGIN:VEVENT
DTSTART;TZID=UTC:20190723T110000
DTEND;TZID=UTC:20190723T130000
DTSTAMP:20260425T153552
CREATED:20190716T205610Z
LAST-MODIFIED:20190716T205610Z
UID:3843-1563879600-1563886800@georgetownsouth.org
SUMMARY:Mobile Market
DESCRIPTION:
URL:https://georgetownsouth.org/event/mobile-market-2/
LOCATION:GTS Community Center
END:VEVENT
BEGIN:VEVENT
DTSTART;TZID=UTC:20190722T123000
DTEND;TZID=UTC:20190722T150000
DTSTAMP:20260425T153552
CREATED:20190716T204713Z
LAST-MODIFIED:20190716T205521Z
UID:3835-1563798600-1563807600@georgetownsouth.org
SUMMARY:Book Club
DESCRIPTION:
URL:https://georgetownsouth.org/event/steam-club-girl-scouts/
LOCATION:GTS Community Center
END:VEVENT
END:VCALENDAR