BEGIN:VCALENDAR
VERSION:2.0
PRODID:-//Georgetown South - ECPv6.15.20//NONSGML v1.0//EN
CALSCALE:GREGORIAN
METHOD:PUBLISH
X-ORIGINAL-URL:https://georgetownsouth.org
X-WR-CALDESC:Events for Georgetown South
REFRESH-INTERVAL;VALUE=DURATION:PT1H
X-Robots-Tag:noindex
X-PUBLISHED-TTL:PT1H
BEGIN:VTIMEZONE
TZID:UTC
BEGIN:STANDARD
TZOFFSETFROM:+0000
TZOFFSETTO:+0000
TZNAME:UTC
DTSTART:20230101T000000
END:STANDARD
END:VTIMEZONE
BEGIN:VEVENT
DTSTART;TZID=UTC:20240417T120000
DTEND;TZID=UTC:20240417T133000
DTSTAMP:20260424T193739
CREATED:20240201T165108Z
LAST-MODIFIED:20240201T165108Z
UID:6603-1713355200-1713360600@georgetownsouth.org
SUMMARY:Women Empowerment Workshop - Taller de Empoderamiento de la Mujer
DESCRIPTION:
URL:https://georgetownsouth.org/event/women-empowerment-workshop-taller-de-empoderamiento-de-la-mujer-5/
END:VEVENT
BEGIN:VEVENT
DTSTART;TZID=UTC:20240417T170000
DTEND;TZID=UTC:20240417T190000
DTSTAMP:20260424T193739
CREATED:20240201T165225Z
LAST-MODIFIED:20240201T165225Z
UID:6605-1713373200-1713380400@georgetownsouth.org
SUMMARY:LEAP Parent Workshop - Taller para padre presentado por LEAP
DESCRIPTION:
URL:https://georgetownsouth.org/event/leap-parent-workshop-taller-para-padre-presentado-por-leap/
END:VEVENT
END:VCALENDAR