BEGIN:VCALENDAR
VERSION:2.0
PRODID:-//Georgetown South - ECPv6.15.20//NONSGML v1.0//EN
CALSCALE:GREGORIAN
METHOD:PUBLISH
X-WR-CALNAME:Georgetown South
X-ORIGINAL-URL:https://georgetownsouth.org
X-WR-CALDESC:Events for Georgetown South
REFRESH-INTERVAL;VALUE=DURATION:PT1H
X-Robots-Tag:noindex
X-PUBLISHED-TTL:PT1H
BEGIN:VTIMEZONE
TZID:UTC
BEGIN:STANDARD
TZOFFSETFROM:+0000
TZOFFSETTO:+0000
TZNAME:UTC
DTSTART:20230101T000000
END:STANDARD
END:VTIMEZONE
BEGIN:VEVENT
DTSTART;TZID=UTC:20240403T120000
DTEND;TZID=UTC:20240403T130000
DTSTAMP:20260424T193655
CREATED:20240201T153414Z
LAST-MODIFIED:20240201T153414Z
UID:6595-1712145600-1712149200@georgetownsouth.org
SUMMARY:Women Empowerment Workshop - Taller de Empoderamiento de la Mujer
DESCRIPTION:
URL:https://georgetownsouth.org/event/women-empowerment-workshop-taller-de-empoderamiento-de-la-mujer-4/
END:VEVENT
BEGIN:VEVENT
DTSTART;TZID=UTC:20240403T170000
DTEND;TZID=UTC:20240403T190000
DTSTAMP:20260424T193655
CREATED:20240201T164604Z
LAST-MODIFIED:20240201T164604Z
UID:6597-1712163600-1712170800@georgetownsouth.org
SUMMARY:LEAP Parent Workshop - Taller para padres LEAP
DESCRIPTION:
URL:https://georgetownsouth.org/event/leap-parent-workshop-taller-para-padres-leap/
END:VEVENT
END:VCALENDAR