BEGIN:VCALENDAR
VERSION:2.0
PRODID:-//Georgetown South - ECPv6.15.20//NONSGML v1.0//EN
CALSCALE:GREGORIAN
METHOD:PUBLISH
X-WR-CALNAME:Georgetown South
X-ORIGINAL-URL:https://georgetownsouth.org
X-WR-CALDESC:Events for Georgetown South
REFRESH-INTERVAL;VALUE=DURATION:PT1H
X-Robots-Tag:noindex
X-PUBLISHED-TTL:PT1H
BEGIN:VTIMEZONE
TZID:UTC
BEGIN:STANDARD
TZOFFSETFROM:+0000
TZOFFSETTO:+0000
TZNAME:UTC
DTSTART:20230101T000000
END:STANDARD
END:VTIMEZONE
BEGIN:VEVENT
DTSTART;TZID=UTC:20240323T100000
DTEND;TZID=UTC:20240323T120000
DTSTAMP:20260424T182102
CREATED:20240201T150431Z
LAST-MODIFIED:20240201T150431Z
UID:6590-1711188000-1711195200@georgetownsouth.org
SUMMARY:Easter Egg Hunt - Búsqueda de huevos de Pascua
DESCRIPTION:
URL:https://georgetownsouth.org/event/easter-egg-hunt-busqueda-de-huevos-de-pascua-2/
END:VEVENT
END:VCALENDAR