BEGIN:VCALENDAR
VERSION:2.0
PRODID:-//Georgetown South - ECPv6.15.20//NONSGML v1.0//EN
CALSCALE:GREGORIAN
METHOD:PUBLISH
X-WR-CALNAME:Georgetown South
X-ORIGINAL-URL:https://georgetownsouth.org
X-WR-CALDESC:Events for Georgetown South
REFRESH-INTERVAL;VALUE=DURATION:PT1H
X-Robots-Tag:noindex
X-PUBLISHED-TTL:PT1H
BEGIN:VTIMEZONE
TZID:UTC
BEGIN:STANDARD
TZOFFSETFROM:+0000
TZOFFSETTO:+0000
TZNAME:UTC
DTSTART:20230101T000000
END:STANDARD
END:VTIMEZONE
BEGIN:VEVENT
DTSTART;TZID=UTC:20240306T120000
DTEND;TZID=UTC:20240306T130000
DTSTAMP:20260424T182033
CREATED:20240201T143253Z
LAST-MODIFIED:20240201T143253Z
UID:6575-1709726400-1709730000@georgetownsouth.org
SUMMARY:Women Empowerment Workshop - Taller de Empoderamiento de la Mujer
DESCRIPTION:
URL:https://georgetownsouth.org/event/women-empowerment-workshop-taller-de-empoderamiento-de-la-mujer-2/
END:VEVENT
BEGIN:VEVENT
DTSTART;TZID=UTC:20240306T173000
DTEND;TZID=UTC:20240306T190000
DTSTAMP:20260424T182033
CREATED:20240201T144809Z
LAST-MODIFIED:20240201T144809Z
UID:6577-1709746200-1709751600@georgetownsouth.org
SUMMARY:Prince William Community *Domestic Violence - Prince William Community * Violencia doméstica
DESCRIPTION:
URL:https://georgetownsouth.org/event/prince-william-community-domestic-violence-prince-william-community-violencia-domestica/
END:VEVENT
END:VCALENDAR