BEGIN:VCALENDAR
VERSION:2.0
PRODID:-//Georgetown South - ECPv6.15.20//NONSGML v1.0//EN
CALSCALE:GREGORIAN
METHOD:PUBLISH
X-ORIGINAL-URL:https://georgetownsouth.org
X-WR-CALDESC:Events for Georgetown South
REFRESH-INTERVAL;VALUE=DURATION:PT1H
X-Robots-Tag:noindex
X-PUBLISHED-TTL:PT1H
BEGIN:VTIMEZONE
TZID:UTC
BEGIN:STANDARD
TZOFFSETFROM:+0000
TZOFFSETTO:+0000
TZNAME:UTC
DTSTART:20230101T000000
END:STANDARD
END:VTIMEZONE
BEGIN:VEVENT
DTSTART;TZID=UTC:20240222T140000
DTEND;TZID=UTC:20240222T153000
DTSTAMP:20260424T165414
CREATED:20240131T213305Z
LAST-MODIFIED:20240131T213305Z
UID:6567-1708610400-1708615800@georgetownsouth.org
SUMMARY:Mobil Market - Mercado Mobil
DESCRIPTION:
URL:https://georgetownsouth.org/event/mobil-market-mercado-mobil/
END:VEVENT
END:VCALENDAR