BEGIN:VCALENDAR
VERSION:2.0
PRODID:-//Georgetown South - ECPv6.15.20//NONSGML v1.0//EN
CALSCALE:GREGORIAN
METHOD:PUBLISH
X-WR-CALNAME:Georgetown South
X-ORIGINAL-URL:https://georgetownsouth.org
X-WR-CALDESC:Events for Georgetown South
REFRESH-INTERVAL;VALUE=DURATION:PT1H
X-Robots-Tag:noindex
X-PUBLISHED-TTL:PT1H
BEGIN:VTIMEZONE
TZID:UTC
BEGIN:STANDARD
TZOFFSETFROM:+0000
TZOFFSETTO:+0000
TZNAME:UTC
DTSTART:20230101T000000
END:STANDARD
END:VTIMEZONE
BEGIN:VEVENT
DTSTART;TZID=UTC:20240208T140000
DTEND;TZID=UTC:20240208T150000
DTSTAMP:20260424T165911
CREATED:20240131T212010Z
LAST-MODIFIED:20240131T212336Z
UID:6559-1707400800-1707404400@georgetownsouth.org
SUMMARY:Mobile Market - Mercado Mobil
DESCRIPTION:
URL:https://georgetownsouth.org/event/mobile-market-12/
END:VEVENT
END:VCALENDAR