BEGIN:VCALENDAR
VERSION:2.0
PRODID:-//Georgetown South - ECPv6.15.20//NONSGML v1.0//EN
CALSCALE:GREGORIAN
METHOD:PUBLISH
X-WR-CALNAME:Georgetown South
X-ORIGINAL-URL:https://georgetownsouth.org
X-WR-CALDESC:Events for Georgetown South
REFRESH-INTERVAL;VALUE=DURATION:PT1H
X-Robots-Tag:noindex
X-PUBLISHED-TTL:PT1H
BEGIN:VTIMEZONE
TZID:UTC
BEGIN:STANDARD
TZOFFSETFROM:+0000
TZOFFSETTO:+0000
TZNAME:UTC
DTSTART:20200101T000000
END:STANDARD
END:VTIMEZONE
BEGIN:VEVENT
DTSTART;TZID=UTC:20210729T183000
DTEND;TZID=UTC:20210729T203000
DTSTAMP:20260425T124114
CREATED:20210622T200956Z
LAST-MODIFIED:20210622T210403Z
UID:5115-1627583400-1627590600@georgetownsouth.org
SUMMARY:Manassas City Police Department Recruitment Event
DESCRIPTION:
URL:https://georgetownsouth.org/event/manassas-city-police-department-recruitment-event/
LOCATION:GTS Community Center
END:VEVENT
END:VCALENDAR