BEGIN:VCALENDAR
VERSION:2.0
PRODID:-//Georgetown South - ECPv6.15.20//NONSGML v1.0//EN
CALSCALE:GREGORIAN
METHOD:PUBLISH
X-ORIGINAL-URL:https://georgetownsouth.org
X-WR-CALDESC:Events for Georgetown South
REFRESH-INTERVAL;VALUE=DURATION:PT1H
X-Robots-Tag:noindex
X-PUBLISHED-TTL:PT1H
BEGIN:VTIMEZONE
TZID:UTC
BEGIN:STANDARD
TZOFFSETFROM:+0000
TZOFFSETTO:+0000
TZNAME:UTC
DTSTART:20200101T000000
END:STANDARD
END:VTIMEZONE
BEGIN:VEVENT
DTSTART;TZID=UTC:20210622T083000
DTEND;TZID=UTC:20210713T170000
DTSTAMP:20260425T112207
CREATED:20210622T204416Z
LAST-MODIFIED:20210622T204416Z
UID:5123-1624350600-1626195600@georgetownsouth.org
SUMMARY:English Classes Registration/Registracion para Clases de Ingles
DESCRIPTION:Las clases de Ingles empezaran el 13 de Julio. \nSeran todos los martes y jueves de 10am a 12 del medio dia. \n  \n  \nEnglish classes will start on July 13th. \nThey will be every Tuesday and Thursday from 10am to 12 noon.
URL:https://georgetownsouth.org/event/english-classes-registration-registracion-para-clases-de-ingles/
END:VEVENT
BEGIN:VEVENT
DTSTART;TZID=UTC:20210623T083000
DTEND;TZID=UTC:20210720T170000
DTSTAMP:20260425T112207
CREATED:20210622T205544Z
LAST-MODIFIED:20210622T205544Z
UID:5127-1624437000-1626800400@georgetownsouth.org
SUMMARY:Aviation Camp Registrations/Registraciones para el Campamento de Aviacion Technica
DESCRIPTION:
URL:https://georgetownsouth.org/event/aviation-camp-registrations-registraciones-para-el-campamento-de-aviacion-technica/
LOCATION:GTS Community Center
END:VEVENT
BEGIN:VEVENT
DTSTART;TZID=UTC:20210624T083000
DTEND;TZID=UTC:20210716T170000
DTSTAMP:20260425T112207
CREATED:20210622T201122Z
LAST-MODIFIED:20210622T201641Z
UID:5117-1624523400-1626454800@georgetownsouth.org
SUMMARY:Girl Scouts Registrations/Registraciones
DESCRIPTION:Grades K-6 \nRegistrations now open at the office. \nGrados K-6 \nLas inscripciones ahora están abiertas en la oficina.
URL:https://georgetownsouth.org/event/girl-scouts-registrations/
END:VEVENT
BEGIN:VEVENT
DTSTART;TZID=UTC:20210628T083000
DTEND;TZID=UTC:20210709T170000
DTSTAMP:20260425T112207
CREATED:20210622T200254Z
LAST-MODIFIED:20210622T202401Z
UID:5107-1624869000-1625850000@georgetownsouth.org
SUMMARY:Back to school supplies registration/ Registracion de utiles
DESCRIPTION:Georgetown South residents only \nregistrations will be from June 26th to July 9th. \n  \nSolo para residentes de Georgetown South \nLas inscripciones serán del 26 de junio al 9 de julio.
URL:https://georgetownsouth.org/event/back-to-school-supplies-registration/
END:VEVENT
END:VCALENDAR