BEGIN:VCALENDAR
VERSION:2.0
PRODID:-//Georgetown South - ECPv6.15.20//NONSGML v1.0//EN
CALSCALE:GREGORIAN
METHOD:PUBLISH
X-ORIGINAL-URL:https://georgetownsouth.org
X-WR-CALDESC:Events for Georgetown South
REFRESH-INTERVAL;VALUE=DURATION:PT1H
X-Robots-Tag:noindex
X-PUBLISHED-TTL:PT1H
BEGIN:VTIMEZONE
TZID:UTC
BEGIN:STANDARD
TZOFFSETFROM:+0000
TZOFFSETTO:+0000
TZNAME:UTC
DTSTART:20200101T000000
END:STANDARD
END:VTIMEZONE
BEGIN:VEVENT
DTSTART;TZID=UTC:20210514T140000
DTEND;TZID=UTC:20210514T163000
DTSTAMP:20260425T141027
CREATED:20210506T154532Z
LAST-MODIFIED:20210506T154532Z
UID:4969-1621000800-1621009800@georgetownsouth.org
SUMMARY:Food Distribution/Distribucion de comida
DESCRIPTION:
URL:https://georgetownsouth.org/event/food-distribution-distribucion-de-comida-15/
LOCATION:GTS Community Center
END:VEVENT
END:VCALENDAR