BEGIN:VCALENDAR
VERSION:2.0
PRODID:-//Georgetown South - ECPv6.15.20//NONSGML v1.0//EN
CALSCALE:GREGORIAN
METHOD:PUBLISH
X-WR-CALNAME:Georgetown South
X-ORIGINAL-URL:https://georgetownsouth.org
X-WR-CALDESC:Events for Georgetown South
REFRESH-INTERVAL;VALUE=DURATION:PT1H
X-Robots-Tag:noindex
X-PUBLISHED-TTL:PT1H
BEGIN:VTIMEZONE
TZID:UTC
BEGIN:STANDARD
TZOFFSETFROM:+0000
TZOFFSETTO:+0000
TZNAME:UTC
DTSTART:20200101T000000
END:STANDARD
END:VTIMEZONE
BEGIN:VEVENT
DTSTART;TZID=UTC:20210409T140000
DTEND;TZID=UTC:20210409T163000
DTSTAMP:20260425T175405
CREATED:20210318T152207Z
LAST-MODIFIED:20210318T152207Z
UID:4821-1617976800-1617985800@georgetownsouth.org
SUMMARY:Food Distribution/ Distribucion de Comida
DESCRIPTION:
URL:https://georgetownsouth.org/event/food-distribution-distribucion-de-comida-7/
LOCATION:GTS Community Center
END:VEVENT
END:VCALENDAR